BEGIN:VCALENDAR
VERSION:2.0
PRODID:-//CLTSings - ECPv6.15.20//NONSGML v1.0//EN
CALSCALE:GREGORIAN
METHOD:PUBLISH
X-ORIGINAL-URL:https://cltsings.org
X-WR-CALDESC:Events for CLTSings
REFRESH-INTERVAL;VALUE=DURATION:PT1H
X-Robots-Tag:noindex
X-PUBLISHED-TTL:PT1H
BEGIN:VTIMEZONE
TZID:America/New_York
BEGIN:DAYLIGHT
TZOFFSETFROM:-0500
TZOFFSETTO:-0400
TZNAME:EDT
DTSTART:20240310T070000
END:DAYLIGHT
BEGIN:STANDARD
TZOFFSETFROM:-0400
TZOFFSETTO:-0500
TZNAME:EST
DTSTART:20241103T060000
END:STANDARD
BEGIN:DAYLIGHT
TZOFFSETFROM:-0500
TZOFFSETTO:-0400
TZNAME:EDT
DTSTART:20250309T070000
END:DAYLIGHT
BEGIN:STANDARD
TZOFFSETFROM:-0400
TZOFFSETTO:-0500
TZNAME:EST
DTSTART:20251102T060000
END:STANDARD
BEGIN:DAYLIGHT
TZOFFSETFROM:-0500
TZOFFSETTO:-0400
TZNAME:EDT
DTSTART:20260308T070000
END:DAYLIGHT
BEGIN:STANDARD
TZOFFSETFROM:-0400
TZOFFSETTO:-0500
TZNAME:EST
DTSTART:20261101T060000
END:STANDARD
END:VTIMEZONE
BEGIN:VEVENT
DTSTART;TZID=America/New_York:20251123T160000
DTEND;TZID=America/New_York:20251123T173000
DTSTAMP:20260423T192949
CREATED:20250917T122728Z
LAST-MODIFIED:20250917T122748Z
UID:10000850-1763913600-1763919000@cltsings.org
SUMMARY:Songs of Soul & Sun
DESCRIPTION:Choral music has a unique power to connect and uplift the soul. Join the Festival Singers on Sunday\, November 23\, 2025\, for Songs of Soul & Sun—a radiant journey through music inspired by the rising sun and the awakening spirit. Featuring a diverse repertoire from composers such as Eric Whitacre\, Josef Rheinberger\, Rollo Dilworth\, and Dan Forrest\, this concert blends classical\, contemporary\, and spiritual influences into one unforgettable afternoon. \nLife is better when we sing—especially when we sing together. Let your spirit be stirred and your heart lifted in this moving celebration of light\, hope\, and harmony.
URL:https://cltsings.org/performance/songs-of-soul-sun/
LOCATION:Unitarian Universalist Community of Charlotte\, 234 Sharon Amity Rd\, Charlotte\, NC\, 28211\, United States
CATEGORIES:Choral
ATTACH;FMTTYPE=image/png:https://cltsings.org/wp-content/uploads/2025/09/68b9b6c90f7802088d99d0dc_Songs-of-Soul-Sun-Website-1200-x-724-px.png
ORGANIZER;CN="Carolina Voices":MAILTO:marketing@carolinavoices.org
END:VEVENT
END:VCALENDAR