BEGIN:VCALENDAR
VERSION:2.0
PRODID:-//CLTSings - ECPv6.15.20//NONSGML v1.0//EN
CALSCALE:GREGORIAN
METHOD:PUBLISH
X-WR-CALNAME:CLTSings
X-ORIGINAL-URL:https://cltsings.org
X-WR-CALDESC:Events for CLTSings
REFRESH-INTERVAL;VALUE=DURATION:PT1H
X-Robots-Tag:noindex
X-PUBLISHED-TTL:PT1H
BEGIN:VTIMEZONE
TZID:America/New_York
BEGIN:DAYLIGHT
TZOFFSETFROM:-0500
TZOFFSETTO:-0400
TZNAME:EDT
DTSTART:20240310T070000
END:DAYLIGHT
BEGIN:STANDARD
TZOFFSETFROM:-0400
TZOFFSETTO:-0500
TZNAME:EST
DTSTART:20241103T060000
END:STANDARD
BEGIN:DAYLIGHT
TZOFFSETFROM:-0500
TZOFFSETTO:-0400
TZNAME:EDT
DTSTART:20250309T070000
END:DAYLIGHT
BEGIN:STANDARD
TZOFFSETFROM:-0400
TZOFFSETTO:-0500
TZNAME:EST
DTSTART:20251102T060000
END:STANDARD
BEGIN:DAYLIGHT
TZOFFSETFROM:-0500
TZOFFSETTO:-0400
TZNAME:EDT
DTSTART:20260308T070000
END:DAYLIGHT
BEGIN:STANDARD
TZOFFSETFROM:-0400
TZOFFSETTO:-0500
TZNAME:EST
DTSTART:20261101T060000
END:STANDARD
BEGIN:DAYLIGHT
TZOFFSETFROM:-0500
TZOFFSETTO:-0400
TZNAME:EDT
DTSTART:20270314T070000
END:DAYLIGHT
BEGIN:STANDARD
TZOFFSETFROM:-0400
TZOFFSETTO:-0500
TZNAME:EST
DTSTART:20271107T060000
END:STANDARD
END:VTIMEZONE
BEGIN:VEVENT
DTSTART;TZID=America/New_York:20260315T153000
DTEND;TZID=America/New_York:20260315T170000
DTSTAMP:20260423T163441
CREATED:20260223T222659Z
LAST-MODIFIED:20260223T222659Z
UID:10000884-1773588600-1773594000@cltsings.org
SUMMARY:Missa Papae Marcelli and Other Mass Movements Through Time
DESCRIPTION:The Charlotte Chamber Choir presents Missa Papae Marcelli\, Giovanni Pierluigi da Palestrina’s monumental Renaissance masterwork\, which legend says saved polyphony for all time\, in its entirety. \nAccompanying this immortal masterpiece are five select movements of later Masses from the Renaissance to the 20th century\, moving in reverse liturgical order – from Agnus Dei to Kyrie – and backward through time. These selections invite listeners to experience the echo of Palestrina’s influence through centuries of great composers and evolving musical languages. \nConcerts take place March 14 at Providence United Methodist Church and March 15 at Myers Park Baptist Church\, both at 3:30 PM. Tickets are $20\, with $5 tickets available for students. For more information\, please visit https://www.charlottechamberchoir.com/calendar or contact us at charlottechamberchoir@gmail.com.
URL:https://cltsings.org/performance/missa-papae-marcelli-and-other-mass-movements-through-time/2026-03-15/
LOCATION:Providence United Methodist Church\, 2810 Providence Rd\, Charlotte\, 28226
CATEGORIES:A Cappella,Choral
ATTACH;FMTTYPE=image/png:https://cltsings.org/wp-content/uploads/2026/02/FB-Event-Banner.png
ORGANIZER;CN="Charlotte Chamber Choir":MAILTO:charlottechamberchoir@gmail.com
END:VEVENT
BEGIN:VEVENT
DTSTART;TZID=America/New_York:20260314T153000
DTEND;TZID=America/New_York:20260314T170000
DTSTAMP:20260423T163441
CREATED:20260223T222659Z
LAST-MODIFIED:20260223T222659Z
UID:10000883-1773502200-1773507600@cltsings.org
SUMMARY:Missa Papae Marcelli and Other Mass Movements Through Time
DESCRIPTION:The Charlotte Chamber Choir presents Missa Papae Marcelli\, Giovanni Pierluigi da Palestrina’s monumental Renaissance masterwork\, which legend says saved polyphony for all time\, in its entirety. \nAccompanying this immortal masterpiece are five select movements of later Masses from the Renaissance to the 20th century\, moving in reverse liturgical order – from Agnus Dei to Kyrie – and backward through time. These selections invite listeners to experience the echo of Palestrina’s influence through centuries of great composers and evolving musical languages. \nConcerts take place March 14 at Providence United Methodist Church and March 15 at Myers Park Baptist Church\, both at 3:30 PM. Tickets are $20\, with $5 tickets available for students. For more information\, please visit https://www.charlottechamberchoir.com/calendar or contact us at charlottechamberchoir@gmail.com.
URL:https://cltsings.org/performance/missa-papae-marcelli-and-other-mass-movements-through-time/2026-03-14/
LOCATION:Providence United Methodist Church\, 2810 Providence Rd\, Charlotte\, 28226
CATEGORIES:A Cappella,Choral
ATTACH;FMTTYPE=image/png:https://cltsings.org/wp-content/uploads/2026/02/FB-Event-Banner.png
ORGANIZER;CN="Charlotte Chamber Choir":MAILTO:charlottechamberchoir@gmail.com
END:VEVENT
BEGIN:VEVENT
DTSTART;TZID=America/New_York:20251207T160000
DTEND;TZID=America/New_York:20251207T170000
DTSTAMP:20260423T163441
CREATED:20250917T120938Z
LAST-MODIFIED:20250917T120938Z
UID:10000841-1765123200-1765126800@cltsings.org
SUMMARY:Christmas with Caritas
DESCRIPTION:Celebrate the season with Caritas A Cappella Ensemble as they present an afternoon of exquisite choral music that captures the beauty and wonder of Christmas. Experience unique arrangements of cherished hymns\, enriched with intricate harmonies and soaring melodies that will uplift the spirit and stir the soul. This inspiring performance offers a moment of reflection and joy amid the holiday bustle—a perfect way to embrace the magic of December.
URL:https://cltsings.org/performance/christmas-with-caritas/
LOCATION:Myers Park Baptist Church\, 1900 Queens Rd W\, Charlotte\, 28207
CATEGORIES:Choral
ATTACH;FMTTYPE=image/jpeg:https://cltsings.org/wp-content/uploads/2025/09/Caritas-Photo-3.jpg
ORGANIZER;CN="Caritas A Cappella Ensemble":MAILTO:info@caritasacappella.org
END:VEVENT
BEGIN:VEVENT
DTSTART;TZID=America/New_York:20250316T153000
DTEND;TZID=America/New_York:20250316T170000
DTSTAMP:20260423T163441
CREATED:20250328T135921Z
LAST-MODIFIED:20250328T135921Z
UID:10000063-1742139000-1742144400@cltsings.org
SUMMARY:Northern Lights: Music of the Baltics and Scandinavia
DESCRIPTION:Join the Charlotte Chamber Choir as we present “Northern Lights\,” an afternoon of a cappella wonder featuring the choral works of Baltic and Scandinavian composers. Sapphire-hued harmonies and shimmering vocal textures will evoke the wonder of swirling auroras\, glittering tundras\, and the bright glow of the midnight sun. \nThis program features some of the world’s most captivating choral music\, drawn from the rich traditions of Northern Europe reflected in the works of choral masters Ēriks Ešenvalds\, Arvo Pärt\, Ola Gjeilo\, and more. \nThough tickets are not required to attend\, donations are graciously accepted for this free event. Contributions to the Charlotte Chamber Choir can be made on Venmo at @charlottechamberchoir (venmo.com/charlottechamberchoir)
URL:https://cltsings.org/performance/northern-lights-music-of-the-baltics-and-scandinavia/
LOCATION:Myers Park Baptist Church\, 1900 Queens Rd W\, Charlotte\, 28207
ATTACH;FMTTYPE=image/jpeg:https://cltsings.org/wp-content/uploads/2025/03/480711735_611052078344620_8294825924514971785_n.jpg
ORGANIZER;CN="Charlotte Chamber Choir":MAILTO:charlottechamberchoir@gmail.com
END:VEVENT
END:VCALENDAR