BEGIN:VCALENDAR
VERSION:2.0
PRODID:-//CLTSings - ECPv6.15.20//NONSGML v1.0//EN
CALSCALE:GREGORIAN
METHOD:PUBLISH
X-WR-CALNAME:CLTSings
X-ORIGINAL-URL:https://cltsings.org
X-WR-CALDESC:Events for CLTSings
REFRESH-INTERVAL;VALUE=DURATION:PT1H
X-Robots-Tag:noindex
X-PUBLISHED-TTL:PT1H
BEGIN:VTIMEZONE
TZID:America/New_York
BEGIN:DAYLIGHT
TZOFFSETFROM:-0500
TZOFFSETTO:-0400
TZNAME:EDT
DTSTART:20240310T070000
END:DAYLIGHT
BEGIN:STANDARD
TZOFFSETFROM:-0400
TZOFFSETTO:-0500
TZNAME:EST
DTSTART:20241103T060000
END:STANDARD
BEGIN:DAYLIGHT
TZOFFSETFROM:-0500
TZOFFSETTO:-0400
TZNAME:EDT
DTSTART:20250309T070000
END:DAYLIGHT
BEGIN:STANDARD
TZOFFSETFROM:-0400
TZOFFSETTO:-0500
TZNAME:EST
DTSTART:20251102T060000
END:STANDARD
BEGIN:DAYLIGHT
TZOFFSETFROM:-0500
TZOFFSETTO:-0400
TZNAME:EDT
DTSTART:20260308T070000
END:DAYLIGHT
BEGIN:STANDARD
TZOFFSETFROM:-0400
TZOFFSETTO:-0500
TZNAME:EST
DTSTART:20261101T060000
END:STANDARD
END:VTIMEZONE
BEGIN:VEVENT
DTSTART;TZID=America/New_York:20250307T190000
DTEND;TZID=America/New_York:20250307T210000
DTSTAMP:20260424T011800
CREATED:20250328T140056Z
LAST-MODIFIED:20250328T141648Z
UID:10000070-1741374000-1741381200@cltsings.org
SUMMARY:Harmony on Tap!
DESCRIPTION:Harmony on Tap is an annual event hosted by Queen City Vocals every spring. These performances are hosted at local breweries and feature the pop/contemporary rep that QCV has to offer. Our intricate arrangements and powerful vocals are sure provide an entertaining night of music. Come out and enjoy a variety of genres and artists such as The Swingle Singers\, Samm Henshaw\, Hozier\, and many many more! \nThis year\, we are doing a special raffle where YOU can experience what it’s like to be in an a cappella group. The winner has the opportunity to perform the first verse and chorus of Before He Cheats by Carrie Underwood\, with QCV as your karaoke track. Get to practicing!
URL:https://cltsings.org/performance/harmony-on-tap/
LOCATION:Heist Brewery\, 2909 N Davidson St\, Charlotte\, 28205
ATTACH;FMTTYPE=image/png:https://cltsings.org/wp-content/uploads/2024/09/Queen-City-Vocals-Logo.png
ORGANIZER;CN="Queen City Vocals":MAILTO:QueenCityVocals@gmail.com
END:VEVENT
END:VCALENDAR