BEGIN:VCALENDAR
VERSION:2.0
PRODID:-//CLTSings - ECPv6.15.20//NONSGML v1.0//EN
CALSCALE:GREGORIAN
METHOD:PUBLISH
X-WR-CALNAME:CLTSings
X-ORIGINAL-URL:https://cltsings.org
X-WR-CALDESC:Events for CLTSings
REFRESH-INTERVAL;VALUE=DURATION:PT1H
X-Robots-Tag:noindex
X-PUBLISHED-TTL:PT1H
BEGIN:VTIMEZONE
TZID:America/New_York
BEGIN:DAYLIGHT
TZOFFSETFROM:-0500
TZOFFSETTO:-0400
TZNAME:EDT
DTSTART:20230312T070000
END:DAYLIGHT
BEGIN:STANDARD
TZOFFSETFROM:-0400
TZOFFSETTO:-0500
TZNAME:EST
DTSTART:20231105T060000
END:STANDARD
BEGIN:DAYLIGHT
TZOFFSETFROM:-0500
TZOFFSETTO:-0400
TZNAME:EDT
DTSTART:20240310T070000
END:DAYLIGHT
BEGIN:STANDARD
TZOFFSETFROM:-0400
TZOFFSETTO:-0500
TZNAME:EST
DTSTART:20241103T060000
END:STANDARD
BEGIN:DAYLIGHT
TZOFFSETFROM:-0500
TZOFFSETTO:-0400
TZNAME:EDT
DTSTART:20250309T070000
END:DAYLIGHT
BEGIN:STANDARD
TZOFFSETFROM:-0400
TZOFFSETTO:-0500
TZNAME:EST
DTSTART:20251102T060000
END:STANDARD
BEGIN:DAYLIGHT
TZOFFSETFROM:-0500
TZOFFSETTO:-0400
TZNAME:EDT
DTSTART:20260308T070000
END:DAYLIGHT
BEGIN:STANDARD
TZOFFSETFROM:-0400
TZOFFSETTO:-0500
TZNAME:EST
DTSTART:20261101T060000
END:STANDARD
END:VTIMEZONE
BEGIN:VEVENT
DTSTART;TZID=America/New_York:20250328T193000
DTEND;TZID=America/New_York:20250328T213000
DTSTAMP:20260423T152734
CREATED:20250205T213120Z
LAST-MODIFIED:20250205T213511Z
UID:10000055-1743190200-1743197400@cltsings.org
SUMMARY:Sing Me a Story
DESCRIPTION:Every person has their own story of love\, hardship\, joy\, and the memories that make us. This concert explores the queer experience through choral art songs — poems set to music for choirs. Featuring works exclusively by queer poets and composers\, this program will celebrate the full spectrum of queer identities\, from resilience to love. \nParking: Free parking available at 163 W. 9th St. between Church and Tryon Streets. \nRuntime: Approximately 1h\, 40 minutes including a 20-minute intermission. \nSnacks and refreshments will be available during intermission with donations encouraged. \nShow rating: G (all ages welcomed!)
URL:https://cltsings.org/performance/sing-me-a-story/2025-03-28/
LOCATION:First United Methodist Church\, 501 N Tryon\, Charlotte\, 28202
CATEGORIES:Choral
ATTACH;FMTTYPE=image/jpeg:https://cltsings.org/wp-content/uploads/2025/01/2024_Sing-Me-a-Story-Web-Assets_Instagram.jpg
ORGANIZER;CN="One Voice Chorus":MAILTO:info@onevoicechorus.com
END:VEVENT
BEGIN:VEVENT
DTSTART;TZID=America/New_York:20250302T160000
DTEND;TZID=America/New_York:20250302T173000
DTSTAMP:20260423T152734
CREATED:20250218T211541Z
LAST-MODIFIED:20250218T211541Z
UID:10000059-1740931200-1740936600@cltsings.org
SUMMARY:The Concordia Choir
DESCRIPTION:Hear one of the nation’s finest a cappella choirs\, the 70-v0ice Concordia Choir\, conducted by Dr. Michael Culloton\, perform the music of J.S. Bach\, René Clausen\, and more during their 2025 Southeast United States Tour performance in Charlotte.
URL:https://cltsings.org/performance/the-concordia-choir/
LOCATION:First United Methodist Church\, 501 N Tryon\, Charlotte\, 28202
ATTACH;FMTTYPE=image/jpeg:https://cltsings.org/wp-content/uploads/2025/02/476821637_1026499702633807_3578023614256882678_n.jpg
END:VEVENT
BEGIN:VEVENT
DTSTART;VALUE=DATE:20241214
DTEND;VALUE=DATE:20241215
DTSTAMP:20260423T152734
CREATED:20241108T141708Z
LAST-MODIFIED:20241108T141724Z
UID:10000043-1734204600-1734211800@cltsings.org
SUMMARY:OVC's Holiday Concert: Pride & Joy
DESCRIPTION:Kick off the season by celebrating queer Pride & Joy as we share tasteful choral selections spanning a range of holidays celebrated during this season. We are excited to share our performance in the lovely acoustics of First United Methodist Uptown this year. Join us as we celebrate our community and welcome in the holidays together. Use the code: PJ24EB to save $5 off on early bird tickets until Dec. 1st. \nAfter the concert\, we’ll host a FREE reception featuring a holiday carol sing-a-long\, complimentary beer from NoDa Brewing\, wine\, and soft drinks\, and holiday cookies galore. Come ready for a sweet treat! \nFree parking available (located at 163 W. 9th St between Church and Tryon Streets). \nRuntime: Approximately 75 minutes\nShow rating: G (all ages welcomed!)
URL:https://cltsings.org/performance/ovcs-holiday-concert-pride-joy/2024-12-14/2/
LOCATION:First United Methodist Church\, 501 N Tryon\, Charlotte\, 28202
ATTACH;FMTTYPE=image/jpeg:https://cltsings.org/wp-content/uploads/2024/11/2024-Pride-Joy_Web-Assets_Instagram.jpg
ORGANIZER;CN="One Voice Chorus":MAILTO:info@onevoicechorus.com
END:VEVENT
BEGIN:VEVENT
DTSTART;VALUE=DATE:20241214
DTEND;VALUE=DATE:20241215
DTSTAMP:20260423T152734
CREATED:20241108T141708Z
LAST-MODIFIED:20241108T141724Z
UID:10000042-1734184800-1734192000@cltsings.org
SUMMARY:OVC's Holiday Concert: Pride & Joy
DESCRIPTION:Kick off the season by celebrating queer Pride & Joy as we share tasteful choral selections spanning a range of holidays celebrated during this season. We are excited to share our performance in the lovely acoustics of First United Methodist Uptown this year. Join us as we celebrate our community and welcome in the holidays together. Use the code: PJ24EB to save $5 off on early bird tickets until Dec. 1st. \nAfter the concert\, we’ll host a FREE reception featuring a holiday carol sing-a-long\, complimentary beer from NoDa Brewing\, wine\, and soft drinks\, and holiday cookies galore. Come ready for a sweet treat! \nFree parking available (located at 163 W. 9th St between Church and Tryon Streets). \nRuntime: Approximately 75 minutes\nShow rating: G (all ages welcomed!)
URL:https://cltsings.org/performance/ovcs-holiday-concert-pride-joy/2024-12-14/1/
LOCATION:First United Methodist Church\, 501 N Tryon\, Charlotte\, 28202
ATTACH;FMTTYPE=image/jpeg:https://cltsings.org/wp-content/uploads/2024/11/2024-Pride-Joy_Web-Assets_Instagram.jpg
ORGANIZER;CN="One Voice Chorus":MAILTO:info@onevoicechorus.com
END:VEVENT
BEGIN:VEVENT
DTSTART;VALUE=DATE:20241213
DTEND;VALUE=DATE:20241214
DTSTAMP:20260423T152734
CREATED:20241108T141708Z
LAST-MODIFIED:20241108T141724Z
UID:10000041-1734118200-1734125400@cltsings.org
SUMMARY:OVC's Holiday Concert: Pride & Joy
DESCRIPTION:Kick off the season by celebrating queer Pride & Joy as we share tasteful choral selections spanning a range of holidays celebrated during this season. We are excited to share our performance in the lovely acoustics of First United Methodist Uptown this year. Join us as we celebrate our community and welcome in the holidays together. Use the code: PJ24EB to save $5 off on early bird tickets until Dec. 1st. \nAfter the concert\, we’ll host a FREE reception featuring a holiday carol sing-a-long\, complimentary beer from NoDa Brewing\, wine\, and soft drinks\, and holiday cookies galore. Come ready for a sweet treat! \nFree parking available (located at 163 W. 9th St between Church and Tryon Streets). \nRuntime: Approximately 75 minutes\nShow rating: G (all ages welcomed!)
URL:https://cltsings.org/performance/ovcs-holiday-concert-pride-joy/2024-12-13/2/
LOCATION:First United Methodist Church\, 501 N Tryon\, Charlotte\, 28202
ATTACH;FMTTYPE=image/jpeg:https://cltsings.org/wp-content/uploads/2024/11/2024-Pride-Joy_Web-Assets_Instagram.jpg
ORGANIZER;CN="One Voice Chorus":MAILTO:info@onevoicechorus.com
END:VEVENT
BEGIN:VEVENT
DTSTART;VALUE=DATE:20241213
DTEND;VALUE=DATE:20241215
DTSTAMP:20260423T152734
CREATED:20241108T141708Z
LAST-MODIFIED:20241108T141724Z
UID:10000040-1734048000-1734220799@cltsings.org
SUMMARY:OVC's Holiday Concert: Pride & Joy
DESCRIPTION:Kick off the season by celebrating queer Pride & Joy as we share tasteful choral selections spanning a range of holidays celebrated during this season. We are excited to share our performance in the lovely acoustics of First United Methodist Uptown this year. Join us as we celebrate our community and welcome in the holidays together. Use the code: PJ24EB to save $5 off on early bird tickets until Dec. 1st. \nAfter the concert\, we’ll host a FREE reception featuring a holiday carol sing-a-long\, complimentary beer from NoDa Brewing\, wine\, and soft drinks\, and holiday cookies galore. Come ready for a sweet treat! \nFree parking available (located at 163 W. 9th St between Church and Tryon Streets). \nRuntime: Approximately 75 minutes\nShow rating: G (all ages welcomed!)
URL:https://cltsings.org/performance/ovcs-holiday-concert-pride-joy/2024-12-13/1/
LOCATION:First United Methodist Church\, 501 N Tryon\, Charlotte\, 28202
ATTACH;FMTTYPE=image/jpeg:https://cltsings.org/wp-content/uploads/2024/11/2024-Pride-Joy_Web-Assets_Instagram.jpg
ORGANIZER;CN="One Voice Chorus":MAILTO:info@onevoicechorus.com
END:VEVENT
END:VCALENDAR