BEGIN:VCALENDAR
VERSION:2.0
PRODID:-//CLTSings - ECPv6.15.20//NONSGML v1.0//EN
CALSCALE:GREGORIAN
METHOD:PUBLISH
X-WR-CALNAME:CLTSings
X-ORIGINAL-URL:https://cltsings.org
X-WR-CALDESC:Events for CLTSings
REFRESH-INTERVAL;VALUE=DURATION:PT1H
X-Robots-Tag:noindex
X-PUBLISHED-TTL:PT1H
BEGIN:VTIMEZONE
TZID:UTC
BEGIN:STANDARD
TZOFFSETFROM:+0000
TZOFFSETTO:+0000
TZNAME:UTC
DTSTART:20240101T000000
END:STANDARD
END:VTIMEZONE
BEGIN:VEVENT
DTSTART;TZID=UTC:20250517T160000
DTEND;TZID=UTC:20250517T173000
DTSTAMP:20260423T193355
CREATED:20240821T220457Z
LAST-MODIFIED:20250205T213501Z
UID:10000006-1747497600-1747503000@cltsings.org
SUMMARY:Wholeness Concert
DESCRIPTION:Explore how body\, mind\, spirit\, and voice unite in harmony to promote overall well-being as the Charlotte Master Chorale highlights the health and wellness benefits of communal music-making in our closing Wholeness Concert. \n  \nPurchase Tickets
URL:https://cltsings.org/performance/wholeness-concert/
LOCATION:First Presbyterian Church Charlotte\, 200 W Trade St\, Charlotte\, NC\, United States
CATEGORIES:Choral
ATTACH;FMTTYPE=image/jpeg:https://cltsings.org/wp-content/uploads/2024/08/Wholeness.jpg
ORGANIZER;CN="Charlotte Master Chorale":MAILTO:philip.biedenbender@charlottemasterchorale.org
END:VEVENT
END:VCALENDAR