BEGIN:VCALENDAR
VERSION:2.0
PRODID:-//CLTSings - ECPv6.15.20//NONSGML v1.0//EN
CALSCALE:GREGORIAN
METHOD:PUBLISH
X-WR-CALNAME:CLTSings
X-ORIGINAL-URL:https://cltsings.org
X-WR-CALDESC:Events for CLTSings
REFRESH-INTERVAL;VALUE=DURATION:PT1H
X-Robots-Tag:noindex
X-PUBLISHED-TTL:PT1H
BEGIN:VTIMEZONE
TZID:UTC
BEGIN:STANDARD
TZOFFSETFROM:+0000
TZOFFSETTO:+0000
TZNAME:UTC
DTSTART:20240101T000000
END:STANDARD
END:VTIMEZONE
BEGIN:VEVENT
DTSTART;TZID=UTC:20250308T160000
DTEND;TZID=UTC:20250308T173000
DTSTAMP:20260423T194212
CREATED:20240821T215602Z
LAST-MODIFIED:20250205T213514Z
UID:10000005-1741449600-1741455000@cltsings.org
SUMMARY:Celebration of Joy
DESCRIPTION:Hear the Charlotte Master Chorale and talented area high school singers join forces in a vibrant choral collaboration featuring André Thomas’s Mass: A Celebration of Love and Joy\, led by guest conductor Dr. Brandon Boyd. \n  \nPurchase Tickets
URL:https://cltsings.org/performance/celebration-of-joy/
LOCATION:Christ Providence (Christ Lutheran Church)\, 4519 Providence Road\, Charlotte\, United States
CATEGORIES:Choral
ATTACH;FMTTYPE=image/jpeg:https://cltsings.org/wp-content/uploads/2024/08/Celebration-of-Joy-1-e1725629809882.jpg
ORGANIZER;CN="Charlotte Master Chorale":MAILTO:philip.biedenbender@charlottemasterchorale.org
END:VEVENT
END:VCALENDAR