BEGIN:VCALENDAR
VERSION:2.0
PRODID:-//CLTSings - ECPv6.15.20//NONSGML v1.0//EN
CALSCALE:GREGORIAN
METHOD:PUBLISH
X-ORIGINAL-URL:https://cltsings.org
X-WR-CALDESC:Events for CLTSings
REFRESH-INTERVAL;VALUE=DURATION:PT1H
X-Robots-Tag:noindex
X-PUBLISHED-TTL:PT1H
BEGIN:VTIMEZONE
TZID:America/New_York
BEGIN:DAYLIGHT
TZOFFSETFROM:-0500
TZOFFSETTO:-0400
TZNAME:EDT
DTSTART:20230312T070000
END:DAYLIGHT
BEGIN:STANDARD
TZOFFSETFROM:-0400
TZOFFSETTO:-0500
TZNAME:EST
DTSTART:20231105T060000
END:STANDARD
BEGIN:DAYLIGHT
TZOFFSETFROM:-0500
TZOFFSETTO:-0400
TZNAME:EDT
DTSTART:20240310T070000
END:DAYLIGHT
BEGIN:STANDARD
TZOFFSETFROM:-0400
TZOFFSETTO:-0500
TZNAME:EST
DTSTART:20241103T060000
END:STANDARD
BEGIN:DAYLIGHT
TZOFFSETFROM:-0500
TZOFFSETTO:-0400
TZNAME:EDT
DTSTART:20250309T070000
END:DAYLIGHT
BEGIN:STANDARD
TZOFFSETFROM:-0400
TZOFFSETTO:-0500
TZNAME:EST
DTSTART:20251102T060000
END:STANDARD
END:VTIMEZONE
BEGIN:VEVENT
DTSTART;TZID=America/New_York:20241114T193000
DTEND;TZID=America/New_York:20241114T203000
DTSTAMP:20260424T045911
CREATED:20241108T142309Z
LAST-MODIFIED:20241108T142309Z
UID:10000039-1731612600-1731616200@cltsings.org
SUMMARY:And the Angel Said Unto Them: Royal Voices of Charlotte and NC Baroque Orchestra
DESCRIPTION:Music old and new celebrating the divine proclamation of the heavenly host. Queens’ internationally award-winning Royal Voices partners with the renowned North Carolina Baroque Orchestra for this special evening of angel song. \nJS Bach\, Magnificat \nGiacamo Perti\, Magnificat (modern premiere performance) \nRihards Dubra\, Stetit Angelus \nRoyal Voices of Charlotte \nJustin Smith\, director \nNorth Carolina Baroque Orchestra \nFrances Blaker\, director
URL:https://cltsings.org/performance/and-the-angel-said-unto-them-royal-voices-of-charlotte-and-nc-baroque-orchestra/
LOCATION:Belk Chapel\, Queens University\, 2287 Radcliffe\, Charlotte\, 28274
ATTACH;FMTTYPE=image/jpeg:https://cltsings.org/wp-content/uploads/2024/11/463481128_10160571263902014_194506882276292380_n.jpg
END:VEVENT
END:VCALENDAR