BEGIN:VCALENDAR
VERSION:2.0
PRODID:-//CLTSings - ECPv6.15.20//NONSGML v1.0//EN
CALSCALE:GREGORIAN
METHOD:PUBLISH
X-WR-CALNAME:CLTSings
X-ORIGINAL-URL:https://cltsings.org
X-WR-CALDESC:Events for CLTSings
REFRESH-INTERVAL;VALUE=DURATION:PT1H
X-Robots-Tag:noindex
X-PUBLISHED-TTL:PT1H
BEGIN:VTIMEZONE
TZID:America/New_York
BEGIN:DAYLIGHT
TZOFFSETFROM:-0500
TZOFFSETTO:-0400
TZNAME:EDT
DTSTART:20230312T070000
END:DAYLIGHT
BEGIN:STANDARD
TZOFFSETFROM:-0400
TZOFFSETTO:-0500
TZNAME:EST
DTSTART:20231105T060000
END:STANDARD
BEGIN:DAYLIGHT
TZOFFSETFROM:-0500
TZOFFSETTO:-0400
TZNAME:EDT
DTSTART:20240310T070000
END:DAYLIGHT
BEGIN:STANDARD
TZOFFSETFROM:-0400
TZOFFSETTO:-0500
TZNAME:EST
DTSTART:20241103T060000
END:STANDARD
BEGIN:DAYLIGHT
TZOFFSETFROM:-0500
TZOFFSETTO:-0400
TZNAME:EDT
DTSTART:20250309T070000
END:DAYLIGHT
BEGIN:STANDARD
TZOFFSETFROM:-0400
TZOFFSETTO:-0500
TZNAME:EST
DTSTART:20251102T060000
END:STANDARD
END:VTIMEZONE
BEGIN:VTIMEZONE
TZID:UTC
BEGIN:STANDARD
TZOFFSETFROM:+0000
TZOFFSETTO:+0000
TZNAME:UTC
DTSTART:20230101T000000
END:STANDARD
END:VTIMEZONE
BEGIN:VEVENT
DTSTART;TZID=America/New_York:20241020T150000
DTEND;TZID=America/New_York:20241020T163000
DTSTAMP:20260424T074702
CREATED:20241011T172739Z
LAST-MODIFIED:20241011T172739Z
UID:10000036-1729436400-1729441800@cltsings.org
SUMMARY:The United States Air Force Band & Singing Sergeants
DESCRIPTION:Your United States Air Force Band and Singing Sergeants will be in Charlotte\, NC\, at the Dale F. Halton Theater\, on Sunday\, October 20th\, at 3pm to present a FREE concert! This is a rare and exciting event to hear great patriotic music\, broadway classics and as always a salute to celebrate our veterans!
URL:https://cltsings.org/performance/the-united-states-air-force-band-singing-sergeants/
LOCATION:Dale F. Halton Theater\, 1206 Elizabeth Ave\, Charlotte\, 28204
ATTACH;FMTTYPE=image/jpeg:https://cltsings.org/wp-content/uploads/2024/10/2024.BABBSS_Fall-Tour-CHARLOTTE-8.5x11.jpg
END:VEVENT
BEGIN:VEVENT
DTSTART;TZID=UTC:20241004T193000
DTEND;TZID=UTC:20241004T210000
DTSTAMP:20260424T074702
CREATED:20240821T202641Z
LAST-MODIFIED:20241004T175628Z
UID:10000002-1728070200-1728075600@cltsings.org
SUMMARY:Mendelssohn: Elijah
DESCRIPTION:The Charlotte Master Chorale and Charlotte Symphony unite for a captivating\, semi-staged production of the 19th century’s most enduring oratorio\, Mendelssohn’s Elijah\, depicting the dramatic story of the biblical prophet\, his battle with the priests of Baal\, and his final ascent to heaven on a flaming chariot. \nThis special performance is presented in partnership with the Charlotte Symphony and in conjunction with the state conference of the North Carolina chapter of the American Choral Directors Association. \nSung in English \n\n\nMelinda Whittington\, soprano\nKate Maroney\, mezzo-soprano\nJonny Kaufman\, tenor\nMarques Jerrell Ruff\, bass-baritone\n\nCharlotte Master Chorale\nAdditional youth singers from:\n\n– Charlotte Choir School\, Andrew Pester\, director\n– The Charlotte Youth Choir\, Wes Smith\, director\n– Voices in the Laurel\, Martha Brown\, director\n\nCharlotte Symphony Orchestra\nKenney Potter\, conductor\n\n\n\nPurchase Tickets
URL:https://cltsings.org/performance/mendelssohn-elijah/
LOCATION:Gambrell Center\, Queens University of Charlotte\, 2319 Wellesley Ave\, Charlotte\, NC\, United States
ATTACH;FMTTYPE=image/jpeg:https://cltsings.org/wp-content/uploads/2024/08/Mendelssohn-Elijah-1-scaled-e1725637904246.jpeg
ORGANIZER;CN="Charlotte Master Chorale":MAILTO:philip.biedenbender@charlottemasterchorale.org
END:VEVENT
BEGIN:VEVENT
DTSTART;TZID=UTC:20240921T160000
DTEND;TZID=UTC:20240921T180000
DTSTAMP:20260424T074702
CREATED:20240819T231406Z
LAST-MODIFIED:20240821T202208Z
UID:10000001-1726934400-1726941600@cltsings.org
SUMMARY:Charlotte Sings! FREE Community Concert
DESCRIPTION:Join us for a joyous afternoon of performances celebrating the rich diversity of the Charlotte choral community. Performing groups include Brighter Day Community Choir\, Carolina Voices\, the Charlotte Chamber Choir\, the Charlotte Master Chorale\, the Gay Men’s Chorus\, Queen City Vocals\, the Women’s Chorus of Charlotte\, and more. \nThis event is FREE and open to the public. Advance registration is highly encouraged.
URL:https://cltsings.org/performance/charlotte-sings-free-community-concert/
LOCATION:Covenant Presbyterian Church\, 1000 E Morehead St\, Charlotte\, NC\, United States
ATTACH;FMTTYPE=image/jpeg:https://cltsings.org/wp-content/uploads/2024/08/Charlotte-Sings-1200x800-1.jpg
ORGANIZER;CN="Charlotte Master Chorale":MAILTO:philip.biedenbender@charlottemasterchorale.org
END:VEVENT
END:VCALENDAR