BEGIN:VCALENDAR
VERSION:2.0
PRODID:-//CLTSings - ECPv6.15.20//NONSGML v1.0//EN
CALSCALE:GREGORIAN
METHOD:PUBLISH
X-WR-CALNAME:CLTSings
X-ORIGINAL-URL:https://cltsings.org
X-WR-CALDESC:Events for CLTSings
REFRESH-INTERVAL;VALUE=DURATION:PT1H
X-Robots-Tag:noindex
X-PUBLISHED-TTL:PT1H
BEGIN:VTIMEZONE
TZID:America/New_York
BEGIN:DAYLIGHT
TZOFFSETFROM:-0500
TZOFFSETTO:-0400
TZNAME:EDT
DTSTART:20250309T070000
END:DAYLIGHT
BEGIN:STANDARD
TZOFFSETFROM:-0400
TZOFFSETTO:-0500
TZNAME:EST
DTSTART:20251102T060000
END:STANDARD
BEGIN:DAYLIGHT
TZOFFSETFROM:-0500
TZOFFSETTO:-0400
TZNAME:EDT
DTSTART:20260308T070000
END:DAYLIGHT
BEGIN:STANDARD
TZOFFSETFROM:-0400
TZOFFSETTO:-0500
TZNAME:EST
DTSTART:20261101T060000
END:STANDARD
BEGIN:DAYLIGHT
TZOFFSETFROM:-0500
TZOFFSETTO:-0400
TZNAME:EDT
DTSTART:20270314T070000
END:DAYLIGHT
BEGIN:STANDARD
TZOFFSETFROM:-0400
TZOFFSETTO:-0500
TZNAME:EST
DTSTART:20271107T060000
END:STANDARD
END:VTIMEZONE
BEGIN:VEVENT
DTSTART;TZID=America/New_York:20260314T153000
DTEND;TZID=America/New_York:20260314T170000
DTSTAMP:20260423T131945
CREATED:20260223T222659Z
LAST-MODIFIED:20260223T222659Z
UID:10000883-1773502200-1773507600@cltsings.org
SUMMARY:Missa Papae Marcelli and Other Mass Movements Through Time
DESCRIPTION:The Charlotte Chamber Choir presents Missa Papae Marcelli\, Giovanni Pierluigi da Palestrina’s monumental Renaissance masterwork\, which legend says saved polyphony for all time\, in its entirety. \nAccompanying this immortal masterpiece are five select movements of later Masses from the Renaissance to the 20th century\, moving in reverse liturgical order – from Agnus Dei to Kyrie – and backward through time. These selections invite listeners to experience the echo of Palestrina’s influence through centuries of great composers and evolving musical languages. \nConcerts take place March 14 at Providence United Methodist Church and March 15 at Myers Park Baptist Church\, both at 3:30 PM. Tickets are $20\, with $5 tickets available for students. For more information\, please visit https://www.charlottechamberchoir.com/calendar or contact us at charlottechamberchoir@gmail.com.
URL:https://cltsings.org/performance/missa-papae-marcelli-and-other-mass-movements-through-time/2026-03-14/
LOCATION:Providence United Methodist Church\, 2810 Providence Rd\, Charlotte\, 28226
CATEGORIES:A Cappella,Choral
ATTACH;FMTTYPE=image/png:https://cltsings.org/wp-content/uploads/2026/02/FB-Event-Banner.png
ORGANIZER;CN="Charlotte Chamber Choir":MAILTO:charlottechamberchoir@gmail.com
END:VEVENT
BEGIN:VEVENT
DTSTART;TZID=America/New_York:20260314T193000
DTEND;TZID=America/New_York:20260314T210000
DTSTAMP:20260423T131945
CREATED:20250611T151854Z
LAST-MODIFIED:20250611T151859Z
UID:10000091-1773516600-1773522000@cltsings.org
SUMMARY:75th Anniversary Celebration Concert
DESCRIPTION:Join us for a once-in-a-generation celebration of 75 years of choral excellence featuring the Charlotte Master Chorale Main Chorus\, an alumni chorus\, and all three living past conductors of the ensemble\, Hugh Floyd\, David Tang\, and Scott Allen Jarrett\, in a program curated by Artistic Director Kenney Potter. From our beginnings as the Oratorio Singers of Charlotte to today’s Charlotte Master Chorale\, this program serves as a tribute to our past\, a celebration of our present\, and a promise for our future. \nCharlotte Master Chorale Main Chorus\nKenney Potter\, conductor\nHugh Floyd\, David Tang\, & Scott Allen Jarrett\, guest conductors \nFree parking is available in First UMC’s parking garage located at 163 W. Ninth Street between Tryon and Church Streets.
URL:https://cltsings.org/performance/75th-anniversary-celebration-concert/
LOCATION:First United Methodist Church\, 501 N Tryon\, Charlotte\, 28202
ATTACH;FMTTYPE=image/jpeg:https://cltsings.org/wp-content/uploads/2025/06/Wholeness-2-2-3-scaled.jpeg
ORGANIZER;CN="Charlotte Master Chorale":MAILTO:philip.biedenbender@charlottemasterchorale.org
END:VEVENT
BEGIN:VEVENT
DTSTART;TZID=America/New_York:20260315T153000
DTEND;TZID=America/New_York:20260315T170000
DTSTAMP:20260423T131945
CREATED:20260223T222659Z
LAST-MODIFIED:20260223T222659Z
UID:10000884-1773588600-1773594000@cltsings.org
SUMMARY:Missa Papae Marcelli and Other Mass Movements Through Time
DESCRIPTION:The Charlotte Chamber Choir presents Missa Papae Marcelli\, Giovanni Pierluigi da Palestrina’s monumental Renaissance masterwork\, which legend says saved polyphony for all time\, in its entirety. \nAccompanying this immortal masterpiece are five select movements of later Masses from the Renaissance to the 20th century\, moving in reverse liturgical order – from Agnus Dei to Kyrie – and backward through time. These selections invite listeners to experience the echo of Palestrina’s influence through centuries of great composers and evolving musical languages. \nConcerts take place March 14 at Providence United Methodist Church and March 15 at Myers Park Baptist Church\, both at 3:30 PM. Tickets are $20\, with $5 tickets available for students. For more information\, please visit https://www.charlottechamberchoir.com/calendar or contact us at charlottechamberchoir@gmail.com.
URL:https://cltsings.org/performance/missa-papae-marcelli-and-other-mass-movements-through-time/2026-03-15/
LOCATION:Providence United Methodist Church\, 2810 Providence Rd\, Charlotte\, 28226
CATEGORIES:A Cappella,Choral
ATTACH;FMTTYPE=image/png:https://cltsings.org/wp-content/uploads/2026/02/FB-Event-Banner.png
ORGANIZER;CN="Charlotte Chamber Choir":MAILTO:charlottechamberchoir@gmail.com
END:VEVENT
BEGIN:VEVENT
DTSTART;TZID=America/New_York:20260319T193000
DTEND;TZID=America/New_York:20260319T210000
DTSTAMP:20260423T131945
CREATED:20260223T222641Z
LAST-MODIFIED:20260223T222641Z
UID:10000879-1773948600-1773954000@cltsings.org
SUMMARY:Mamma Mia!
DESCRIPTION:Gimme! Gimme! Gimme! a night to remember! \nThe Gay Men’s Chorus of Charlotte and the Women’s Chorus of Charlotte are joining forces for the ultimate feel-good event of the season — a high-energy\, glitter-soaked celebration of the music that conquered the world. \nThis is The Big Gay Sing 7: Mamma Mia! Edition — and it’s not just a concert. It’s a full-on sing-your-face-off\, dance-in-the-aisles\, joy-exploding experience featuring the iconic hits of ABBA from Mamma Mia! (yes\, the musical AND the movie 🎶). \n✨ The songs you blast in the car\n✨ The harmonies you “accidentally” know by heart\n✨ The choruses you physically cannot stay quiet during \nAnd good news… singing along isn’t just allowed — it’s EXPECTED. \nEqual parts concert\, disco party\, and communal love letter to pop perfection\, this is your invitation to drop your inhibitions\, grab your people\, and become part of the show. \nSo warm up those vocal cords\, dust off your platform boots (optional but encouraged)\, and join us for a night where the joy is loud\, proud\, and unapologetically fabulous. \n🎟 SHOW DATES & TIMES \nThursday\, March 19\, 2026 — 7:30 PM\nFriday\, March 20\, 2026 — 7:30 PM\nSaturday\, March 21\, 2026 — 3:00 PM\nSaturday\, March 21\, 2026 — 7:30 PM \n📍 Galilee Center\n3601 Central Avenue\nCharlotte\, NC 28205 \nTag your Dancing Queen.\nText your Super Trouper.\nAnd get ready to shout MAMMA MIA! 💃🕺
URL:https://cltsings.org/performance/mamma-mia/2026-03-19/
LOCATION:Galilee Center\, 3601 Central Avenue\, Charlotte\, 28205
CATEGORIES:Choral
ATTACH;FMTTYPE=image/png:https://cltsings.org/wp-content/uploads/2026/02/Vertical.png
ORGANIZER;CN="Gay Men's Chorus of Charlotte":MAILTO:tlogan@gmccharlotte.org
END:VEVENT
BEGIN:VEVENT
DTSTART;TZID=America/New_York:20260320T193000
DTEND;TZID=America/New_York:20260320T210000
DTSTAMP:20260423T131945
CREATED:20260223T222641Z
LAST-MODIFIED:20260223T222641Z
UID:10000880-1774035000-1774040400@cltsings.org
SUMMARY:Mamma Mia!
DESCRIPTION:Gimme! Gimme! Gimme! a night to remember! \nThe Gay Men’s Chorus of Charlotte and the Women’s Chorus of Charlotte are joining forces for the ultimate feel-good event of the season — a high-energy\, glitter-soaked celebration of the music that conquered the world. \nThis is The Big Gay Sing 7: Mamma Mia! Edition — and it’s not just a concert. It’s a full-on sing-your-face-off\, dance-in-the-aisles\, joy-exploding experience featuring the iconic hits of ABBA from Mamma Mia! (yes\, the musical AND the movie 🎶). \n✨ The songs you blast in the car\n✨ The harmonies you “accidentally” know by heart\n✨ The choruses you physically cannot stay quiet during \nAnd good news… singing along isn’t just allowed — it’s EXPECTED. \nEqual parts concert\, disco party\, and communal love letter to pop perfection\, this is your invitation to drop your inhibitions\, grab your people\, and become part of the show. \nSo warm up those vocal cords\, dust off your platform boots (optional but encouraged)\, and join us for a night where the joy is loud\, proud\, and unapologetically fabulous. \n🎟 SHOW DATES & TIMES \nThursday\, March 19\, 2026 — 7:30 PM\nFriday\, March 20\, 2026 — 7:30 PM\nSaturday\, March 21\, 2026 — 3:00 PM\nSaturday\, March 21\, 2026 — 7:30 PM \n📍 Galilee Center\n3601 Central Avenue\nCharlotte\, NC 28205 \nTag your Dancing Queen.\nText your Super Trouper.\nAnd get ready to shout MAMMA MIA! 💃🕺
URL:https://cltsings.org/performance/mamma-mia/2026-03-20/
LOCATION:Galilee Center\, 3601 Central Avenue\, Charlotte\, 28205
CATEGORIES:Choral
ATTACH;FMTTYPE=image/png:https://cltsings.org/wp-content/uploads/2026/02/Vertical.png
ORGANIZER;CN="Gay Men's Chorus of Charlotte":MAILTO:tlogan@gmccharlotte.org
END:VEVENT
BEGIN:VEVENT
DTSTART;TZID=America/New_York:20260321T150000
DTEND;TZID=America/New_York:20260321T163000
DTSTAMP:20260423T131945
CREATED:20260223T222641Z
LAST-MODIFIED:20260223T222641Z
UID:10000881-1774105200-1774110600@cltsings.org
SUMMARY:Mamma Mia!
DESCRIPTION:Gimme! Gimme! Gimme! a night to remember! \nThe Gay Men’s Chorus of Charlotte and the Women’s Chorus of Charlotte are joining forces for the ultimate feel-good event of the season — a high-energy\, glitter-soaked celebration of the music that conquered the world. \nThis is The Big Gay Sing 7: Mamma Mia! Edition — and it’s not just a concert. It’s a full-on sing-your-face-off\, dance-in-the-aisles\, joy-exploding experience featuring the iconic hits of ABBA from Mamma Mia! (yes\, the musical AND the movie 🎶). \n✨ The songs you blast in the car\n✨ The harmonies you “accidentally” know by heart\n✨ The choruses you physically cannot stay quiet during \nAnd good news… singing along isn’t just allowed — it’s EXPECTED. \nEqual parts concert\, disco party\, and communal love letter to pop perfection\, this is your invitation to drop your inhibitions\, grab your people\, and become part of the show. \nSo warm up those vocal cords\, dust off your platform boots (optional but encouraged)\, and join us for a night where the joy is loud\, proud\, and unapologetically fabulous. \n🎟 SHOW DATES & TIMES \nThursday\, March 19\, 2026 — 7:30 PM\nFriday\, March 20\, 2026 — 7:30 PM\nSaturday\, March 21\, 2026 — 3:00 PM\nSaturday\, March 21\, 2026 — 7:30 PM \n📍 Galilee Center\n3601 Central Avenue\nCharlotte\, NC 28205 \nTag your Dancing Queen.\nText your Super Trouper.\nAnd get ready to shout MAMMA MIA! 💃🕺
URL:https://cltsings.org/performance/mamma-mia/2026-03-21/1/
LOCATION:Galilee Center\, 3601 Central Avenue\, Charlotte\, 28205
CATEGORIES:Choral
ATTACH;FMTTYPE=image/png:https://cltsings.org/wp-content/uploads/2026/02/Vertical.png
ORGANIZER;CN="Gay Men's Chorus of Charlotte":MAILTO:tlogan@gmccharlotte.org
END:VEVENT
BEGIN:VEVENT
DTSTART;TZID=America/New_York:20260321T193000
DTEND;TZID=America/New_York:20260321T210000
DTSTAMP:20260423T131945
CREATED:20260223T222641Z
LAST-MODIFIED:20260223T222641Z
UID:10000882-1774121400-1774126800@cltsings.org
SUMMARY:Mamma Mia!
DESCRIPTION:Gimme! Gimme! Gimme! a night to remember! \nThe Gay Men’s Chorus of Charlotte and the Women’s Chorus of Charlotte are joining forces for the ultimate feel-good event of the season — a high-energy\, glitter-soaked celebration of the music that conquered the world. \nThis is The Big Gay Sing 7: Mamma Mia! Edition — and it’s not just a concert. It’s a full-on sing-your-face-off\, dance-in-the-aisles\, joy-exploding experience featuring the iconic hits of ABBA from Mamma Mia! (yes\, the musical AND the movie 🎶). \n✨ The songs you blast in the car\n✨ The harmonies you “accidentally” know by heart\n✨ The choruses you physically cannot stay quiet during \nAnd good news… singing along isn’t just allowed — it’s EXPECTED. \nEqual parts concert\, disco party\, and communal love letter to pop perfection\, this is your invitation to drop your inhibitions\, grab your people\, and become part of the show. \nSo warm up those vocal cords\, dust off your platform boots (optional but encouraged)\, and join us for a night where the joy is loud\, proud\, and unapologetically fabulous. \n🎟 SHOW DATES & TIMES \nThursday\, March 19\, 2026 — 7:30 PM\nFriday\, March 20\, 2026 — 7:30 PM\nSaturday\, March 21\, 2026 — 3:00 PM\nSaturday\, March 21\, 2026 — 7:30 PM \n📍 Galilee Center\n3601 Central Avenue\nCharlotte\, NC 28205 \nTag your Dancing Queen.\nText your Super Trouper.\nAnd get ready to shout MAMMA MIA! 💃🕺
URL:https://cltsings.org/performance/mamma-mia/2026-03-21/2/
LOCATION:Galilee Center\, 3601 Central Avenue\, Charlotte\, 28205
CATEGORIES:Choral
ATTACH;FMTTYPE=image/png:https://cltsings.org/wp-content/uploads/2026/02/Vertical.png
ORGANIZER;CN="Gay Men's Chorus of Charlotte":MAILTO:tlogan@gmccharlotte.org
END:VEVENT
BEGIN:VEVENT
DTSTART;TZID=America/New_York:20260328T140000
DTEND;TZID=America/New_York:20260328T160000
DTSTAMP:20260423T131945
CREATED:20250821T133214Z
LAST-MODIFIED:20250821T133214Z
UID:10000467-1774706400-1774713600@cltsings.org
SUMMARY:She/They/We
DESCRIPTION:A Concert Honoring Pauli Murray and Voices of Resistance \nTrailblazer. Poet. Priest. Activist. Pauli Murray defied categories and dared to live at the intersection of race\, gender\, and justice. In She/They/We\, One Voice Chorus honors Murray’s legacy through Sincerely Yours… Pauli Murray\, a powerful new work illuminating Murray’s life in her own words. Accompanying this centerpiece are choral works that celebrate the voices who’ve challenged injustice\, reshaped history\, and dared to envision a freer future. She/They/We invites you to reflect\, resist\, and rise alongside the voices that continue to shape our collective story.
URL:https://cltsings.org/performance/she-they-we/2026-03-28/1/
LOCATION:First United Methodist Church\, 501 N Tryon\, Charlotte\, 28202
ATTACH;FMTTYPE=image/jpeg:https://cltsings.org/wp-content/uploads/2025/08/2025_She-They-We_Web-Assets_Web-Banner.jpg
ORGANIZER;CN="One Voice Chorus":MAILTO:info@onevoicechorus.com
END:VEVENT
BEGIN:VEVENT
DTSTART;TZID=America/New_York:20260328T193000
DTEND;TZID=America/New_York:20260328T213000
DTSTAMP:20260423T131945
CREATED:20250821T133214Z
LAST-MODIFIED:20250821T133214Z
UID:10000468-1774726200-1774733400@cltsings.org
SUMMARY:She/They/We
DESCRIPTION:A Concert Honoring Pauli Murray and Voices of Resistance \nTrailblazer. Poet. Priest. Activist. Pauli Murray defied categories and dared to live at the intersection of race\, gender\, and justice. In She/They/We\, One Voice Chorus honors Murray’s legacy through Sincerely Yours… Pauli Murray\, a powerful new work illuminating Murray’s life in her own words. Accompanying this centerpiece are choral works that celebrate the voices who’ve challenged injustice\, reshaped history\, and dared to envision a freer future. She/They/We invites you to reflect\, resist\, and rise alongside the voices that continue to shape our collective story.
URL:https://cltsings.org/performance/she-they-we/2026-03-28/2/
LOCATION:First United Methodist Church\, 501 N Tryon\, Charlotte\, 28202
ATTACH;FMTTYPE=image/jpeg:https://cltsings.org/wp-content/uploads/2025/08/2025_She-They-We_Web-Assets_Web-Banner.jpg
ORGANIZER;CN="One Voice Chorus":MAILTO:info@onevoicechorus.com
END:VEVENT
END:VCALENDAR