BEGIN:VCALENDAR
VERSION:2.0
PRODID:-//CLTSings - ECPv6.15.20//NONSGML v1.0//EN
CALSCALE:GREGORIAN
METHOD:PUBLISH
X-WR-CALNAME:CLTSings
X-ORIGINAL-URL:https://cltsings.org
X-WR-CALDESC:Events for CLTSings
REFRESH-INTERVAL;VALUE=DURATION:PT1H
X-Robots-Tag:noindex
X-PUBLISHED-TTL:PT1H
BEGIN:VTIMEZONE
TZID:America/New_York
BEGIN:DAYLIGHT
TZOFFSETFROM:-0500
TZOFFSETTO:-0400
TZNAME:EDT
DTSTART:20240310T070000
END:DAYLIGHT
BEGIN:STANDARD
TZOFFSETFROM:-0400
TZOFFSETTO:-0500
TZNAME:EST
DTSTART:20241103T060000
END:STANDARD
BEGIN:DAYLIGHT
TZOFFSETFROM:-0500
TZOFFSETTO:-0400
TZNAME:EDT
DTSTART:20250309T070000
END:DAYLIGHT
BEGIN:STANDARD
TZOFFSETFROM:-0400
TZOFFSETTO:-0500
TZNAME:EST
DTSTART:20251102T060000
END:STANDARD
BEGIN:DAYLIGHT
TZOFFSETFROM:-0500
TZOFFSETTO:-0400
TZNAME:EDT
DTSTART:20260308T070000
END:DAYLIGHT
BEGIN:STANDARD
TZOFFSETFROM:-0400
TZOFFSETTO:-0500
TZNAME:EST
DTSTART:20261101T060000
END:STANDARD
BEGIN:DAYLIGHT
TZOFFSETFROM:-0500
TZOFFSETTO:-0400
TZNAME:EDT
DTSTART:20270314T070000
END:DAYLIGHT
BEGIN:STANDARD
TZOFFSETFROM:-0400
TZOFFSETTO:-0500
TZNAME:EST
DTSTART:20271107T060000
END:STANDARD
END:VTIMEZONE
BEGIN:VEVENT
DTSTART;TZID=America/New_York:20251214T150000
DTEND;TZID=America/New_York:20251214T170000
DTSTAMP:20260424T095919
CREATED:20251031T203940Z
LAST-MODIFIED:20251031T203940Z
UID:10000868-1765724400-1765731600@cltsings.org
SUMMARY:Holiday Pops: A Carolina Christmas
DESCRIPTION:Come home for the holidays in a merry celebration featuring North Carolina’s rich musical heritage. Festive favorites like “The Twelve Days of Christmas” and “Santa Claus is Coming to Town” alongside traditional songs with sounds of bluegrass and blues will wrap you in the season’s warmth and joy. \nChristopher James Lees\, conductor\nWendy Hickman\, vocals\nDaShawn Hickman\, steel guitar/vocals\nLaurelyn Dossett\, guitar/vocals\nJoe Newberry\, banjo/guitar/vocals\nApril Verch\, fiddle/vocals\nCharlotte Master Chorale\nCharlotte Symphony Orchestra
URL:https://cltsings.org/performance/holiday-pops-a-carolina-christmas/2025-12-14/
LOCATION:Knight Theater\, 430 S Tryon St\, Charlotte\, United States
CATEGORIES:Choral-Orchestral
ATTACH;FMTTYPE=image/jpeg:https://cltsings.org/wp-content/uploads/2025/10/Holiday-Pops.jpg
ORGANIZER;CN="Charlotte Master Chorale":MAILTO:philip.biedenbender@charlottemasterchorale.org
END:VEVENT
BEGIN:VEVENT
DTSTART;TZID=America/New_York:20251214T160000
DTEND;TZID=America/New_York:20251214T180000
DTSTAMP:20260424T095919
CREATED:20250917T122406Z
LAST-MODIFIED:20250917T122406Z
UID:10000849-1765728000-1765735200@cltsings.org
SUMMARY:The 71st Annual Singing Christmas Tree
DESCRIPTION:Welcome to Carolina Voices’ 71st Annual Singing Christmas Tree—a cherished celebration of holiday entertainment! Join us at the CPCC Dale F. Halton Theater\, where the MainStage Choir\, arranged in a specially designed 32-foot tree\, will fill the air with the sounds of the season. Enjoy an inspiring blend of Christmas music\, spanning sacred and traditional favorites to pop and family classics. Adding to the festive spirit\, Miller Street Dance Academy will return with dazzling performances to make this an unforgettable holiday experience\, and the Carolina Kids’ Voices Tree Choir will be sure to make you smile! Celebrate with us and create new holiday memories—reserve your tickets now! \nPlenty of free parking is available off of E. 4th St. in CPCC Deck 4\, which is the closest parking garage to the theater. Use 1225 E 4th St\, Charlotte\, NC 28204 in your GPS for directions to the parking deck. The deck is located behind the theater. The entrance to Halton Theater/Tate Hall is off of N Kings Dr. There is also a drop off area right in front of the theater\, for those that need direct access.
URL:https://cltsings.org/performance/the-71st-annual-singing-christmas-tree/2025-12-14/
LOCATION:Dale F. Halton Theater\, 1206 Elizabeth Ave\, Charlotte\, 28204
CATEGORIES:Choral
ATTACH;FMTTYPE=image/png:https://cltsings.org/wp-content/uploads/2025/09/6874f6aec4ea252a3a531ba0_SCT-2025-Thumbnail-Image-1200-x-724-px.png
ORGANIZER;CN="Carolina Voices":MAILTO:marketing@carolinavoices.org
END:VEVENT
BEGIN:VEVENT
DTSTART;TZID=America/New_York:20260124T180000
DTEND;TZID=America/New_York:20260124T190000
DTSTAMP:20260424T095919
CREATED:20260102T171520Z
LAST-MODIFIED:20260102T171520Z
UID:10000878-1769277600-1769281200@cltsings.org
SUMMARY:Freedom in the Air
DESCRIPTION:In honor of Martin Luther King Jr.’s legacy\, this powerful program weaves together the voices and traditions that shaped the American story. Spirituals\, folk songs\, and fiddle tunes meet the elegance of Baroque and colonial music\, revealing a shared language of resilience and hope. Featuring countertenor Patrick Dailey and Charlotte’s own soprano Sequina DuBose\, acclaimed performer and faculty member at UNC Charlotte\, 7th Street Concerts invites audiences into a vibrant tapestry of sound that honors struggle\, uplifts the spirit\, and celebrates the dream of justice and belonging.
URL:https://cltsings.org/performance/freedom-in-the-air/
LOCATION:St. Peter’s Episcopal Church\, 115 w 7th st\, Charlotte\, 28202
CATEGORIES:Choral
ATTACH;FMTTYPE=image/jpeg:https://cltsings.org/wp-content/uploads/2026/01/S3_FreedomInTheAir_Art_1200x1200.jpg
ORGANIZER;CN="7th Street Concerts":MAILTO:contact@7thstreetconcerts.org
END:VEVENT
END:VCALENDAR