BEGIN:VCALENDAR
VERSION:2.0
PRODID:-//CLTSings - ECPv6.15.20//NONSGML v1.0//EN
CALSCALE:GREGORIAN
METHOD:PUBLISH
X-WR-CALNAME:CLTSings
X-ORIGINAL-URL:https://cltsings.org
X-WR-CALDESC:Events for CLTSings
REFRESH-INTERVAL;VALUE=DURATION:PT1H
X-Robots-Tag:noindex
X-PUBLISHED-TTL:PT1H
BEGIN:VTIMEZONE
TZID:UTC
BEGIN:STANDARD
TZOFFSETFROM:+0000
TZOFFSETTO:+0000
TZNAME:UTC
DTSTART:20230101T000000
END:STANDARD
END:VTIMEZONE
BEGIN:VTIMEZONE
TZID:America/New_York
BEGIN:DAYLIGHT
TZOFFSETFROM:-0500
TZOFFSETTO:-0400
TZNAME:EDT
DTSTART:20230312T070000
END:DAYLIGHT
BEGIN:STANDARD
TZOFFSETFROM:-0400
TZOFFSETTO:-0500
TZNAME:EST
DTSTART:20231105T060000
END:STANDARD
BEGIN:DAYLIGHT
TZOFFSETFROM:-0500
TZOFFSETTO:-0400
TZNAME:EDT
DTSTART:20240310T070000
END:DAYLIGHT
BEGIN:STANDARD
TZOFFSETFROM:-0400
TZOFFSETTO:-0500
TZNAME:EST
DTSTART:20241103T060000
END:STANDARD
BEGIN:DAYLIGHT
TZOFFSETFROM:-0500
TZOFFSETTO:-0400
TZNAME:EDT
DTSTART:20250309T070000
END:DAYLIGHT
BEGIN:STANDARD
TZOFFSETFROM:-0400
TZOFFSETTO:-0500
TZNAME:EST
DTSTART:20251102T060000
END:STANDARD
END:VTIMEZONE
BEGIN:VEVENT
DTSTART;TZID=UTC:20241123T193000
DTEND;TZID=UTC:20241123T210000
DTSTAMP:20260425T085615
CREATED:20240821T220759Z
LAST-MODIFIED:20240919T140946Z
UID:10000017-1732390200-1732395600@cltsings.org
SUMMARY:Brahms: Requiem
DESCRIPTION:In his first concert as the Charlotte Symphony’s Music Director\, Kwamé Ryan leads the combined musical forces of the Charlotte Symphony\, Charlotte Master Chorale\, and two soloists in a poignant interpretation of Brahms’s inspiring and hopeful masterwork\, A German Requiem. \nPurchase Tickets
URL:https://cltsings.org/performance/brahms-requiem/2024-11-23/
LOCATION:Belk Theater\, 130 N Tryon St.\, Charlotte\, United States
ATTACH;FMTTYPE=image/jpeg:https://cltsings.org/wp-content/uploads/2024/08/Concert-Images.jpg
ORGANIZER;CN="Charlotte Master Chorale":MAILTO:philip.biedenbender@charlottemasterchorale.org
END:VEVENT
BEGIN:VEVENT
DTSTART;TZID=America/New_York:20241124T153000
DTEND;TZID=America/New_York:20241124T170000
DTSTAMP:20260425T085615
CREATED:20241118T182658Z
LAST-MODIFIED:20241118T182658Z
UID:10000054-1732462200-1732467600@cltsings.org
SUMMARY:Charlotte Chamber Choir: Music from the British Isles
DESCRIPTION:Join the Charlotte Chamber Choir for their fall concert; “Music from the British Isles”. Featuring the timeless classics of Holst\, Stanford\, and Wood\, as well as newer voices like James MacMillan and Paul Mealor. Free and open to the public; donations accepted.
URL:https://cltsings.org/performance/charlotte-chamber-choir-music-from-the-british-isles/
LOCATION:St. Martin’s Episcopal Church\, 1510 E 7th St\, Charlotte\, NC\, 28204\, United States
ATTACH;FMTTYPE=image/jpeg:https://cltsings.org/wp-content/uploads/2024/11/5Div-IMG04354A1-Copy.jpg
ORGANIZER;CN="Charlotte Chamber Choir":MAILTO:charlottechamberchoir@gmail.com
END:VEVENT
BEGIN:VEVENT
DTSTART;TZID=America/New_York:20241124T160000
DTEND;TZID=America/New_York:20241124T170000
DTSTAMP:20260425T085615
CREATED:20240926T195708Z
LAST-MODIFIED:20241004T175952Z
UID:10000032-1732464000-1732467600@cltsings.org
SUMMARY:Harvest of Harmony: A Choral Celebration of Gratitude and Giving
DESCRIPTION:Join Carolina Voices for a concert of exquisite choral music that reflects the themes of gratitude\, generosity\, and community. Music selections by composers Elaine Hagenberg\, Rollo Dilworth\, David Brunner and more will celebrate the power of music to uplift and inspire. Our audience will be able to join us to support a local organization that embodies the spirit of giving back to our community.
URL:https://cltsings.org/performance/harvest-of-harmony/
LOCATION:St. John’s Baptist Church\, 300 Hawthorne Ln\, Charlotte\, United States
ATTACH;FMTTYPE=image/png:https://cltsings.org/wp-content/uploads/2024/09/Harvest-of-Harmony-CLTSings-Image-1200-x-800-px.png
ORGANIZER;CN="Carolina Voices":MAILTO:marketing@carolinavoices.org
END:VEVENT
BEGIN:VEVENT
DTSTART;TZID=UTC:20241203T190000
DTEND;TZID=UTC:20241203T203000
DTSTAMP:20260425T085615
CREATED:20240821T203240Z
LAST-MODIFIED:20240821T204149Z
UID:10000003-1733252400-1733257800@cltsings.org
SUMMARY:WDAV Lessons and Carols
DESCRIPTION:Celebrate the holiday season with the Charlotte Master Chorale Chamber Singers as they lead WDAV’s annual program of carols and holiday music\, illuminated by scripture readings. Tune in at home or join us in person as we welcome the season in song. This event is FREE and open to the public.
URL:https://cltsings.org/performance/wdav-lessons-and-carols/
LOCATION:St. John’s Baptist Church\, 300 Hawthorne Ln\, Charlotte\, United States
ATTACH;FMTTYPE=image/jpeg:https://cltsings.org/wp-content/uploads/2024/08/Christmas-scaled-1.jpg
ORGANIZER;CN="Charlotte Master Chorale":MAILTO:philip.biedenbender@charlottemasterchorale.org
END:VEVENT
BEGIN:VEVENT
DTSTART;TZID=UTC:20241205T193000
DTEND;TZID=UTC:20241205T210000
DTSTAMP:20260425T085615
CREATED:20240821T221721Z
LAST-MODIFIED:20240919T141232Z
UID:10000014-1733427000-1733432400@cltsings.org
SUMMARY:Holiday Pops
DESCRIPTION:Join us for Charlotte’s most cherished holiday tradition as we bring beloved seasonal classics to life\, from timeless carols to spirited renditions of festive favorites. With dazzling arrangements\, heartwarming melodies\, and special surprises\, this joyful celebration is sure to delight audiences of all ages! \n  \nPurchase Tickets
URL:https://cltsings.org/performance/holiday-pops-3/2024-12-05/
LOCATION:Knight Theater\, 430 S Tryon St\, Charlotte\, United States
ATTACH;FMTTYPE=image/jpeg:https://cltsings.org/wp-content/uploads/2024/08/Concert-Images4.jpg
ORGANIZER;CN="Charlotte Master Chorale":MAILTO:philip.biedenbender@charlottemasterchorale.org
END:VEVENT
BEGIN:VEVENT
DTSTART;TZID=America/New_York:20241206T193000
DTEND;TZID=America/New_York:20241206T210000
DTSTAMP:20260425T085615
CREATED:20241108T142241Z
LAST-MODIFIED:20241108T152605Z
UID:10000047-1733513400-1733518800@cltsings.org
SUMMARY:Gay Men's Chorus of Charlotte Presents: JOY!
DESCRIPTION:Get ready for Joy!—the Gay Men’s Chorus of Charlotte’s beloved holiday extravaganza! Join us for a festive celebration filled with stunning harmonies\, classic carols\, and plenty of laughs to kick off the season. This year’s show sparkles with highlights like Dan Forrest’s spirited\, Irish-inspired Joy to the World\, Elaine Hagenberg’s hauntingly beautiful O Come\, Emmanuel\, and the outrageously fun SparkleJollyTwinkleJingly. Come ready to live\, laugh\, and love through the holiday season in true GMCC style!
URL:https://cltsings.org/performance/gay-mens-chorus-of-charlotte-presents-joy/2024-12-06/
LOCATION:Galilee Center\, 3601 Central Avenue\, Charlotte\, 28205
ATTACH;FMTTYPE=image/png:https://cltsings.org/wp-content/uploads/2024/11/1-1.png
ORGANIZER;CN="Gay Men's Chorus of Charlotte":MAILTO:tlogan@gmccharlotte.org
END:VEVENT
BEGIN:VEVENT
DTSTART;TZID=UTC:20241206T193000
DTEND;TZID=UTC:20241206T210000
DTSTAMP:20260425T085615
CREATED:20240821T221721Z
LAST-MODIFIED:20240919T141232Z
UID:10000020-1733513400-1733518800@cltsings.org
SUMMARY:Holiday Pops
DESCRIPTION:Join us for Charlotte’s most cherished holiday tradition as we bring beloved seasonal classics to life\, from timeless carols to spirited renditions of festive favorites. With dazzling arrangements\, heartwarming melodies\, and special surprises\, this joyful celebration is sure to delight audiences of all ages! \n  \nPurchase Tickets
URL:https://cltsings.org/performance/holiday-pops-3/2024-12-06/
LOCATION:Knight Theater\, 430 S Tryon St\, Charlotte\, United States
ATTACH;FMTTYPE=image/jpeg:https://cltsings.org/wp-content/uploads/2024/08/Concert-Images4.jpg
ORGANIZER;CN="Charlotte Master Chorale":MAILTO:philip.biedenbender@charlottemasterchorale.org
END:VEVENT
BEGIN:VEVENT
DTSTART;TZID=America/New_York:20241207T150000
DTEND;TZID=America/New_York:20241207T163000
DTSTAMP:20260425T085615
CREATED:20241108T142241Z
LAST-MODIFIED:20241108T152605Z
UID:10000048-1733583600-1733589000@cltsings.org
SUMMARY:Gay Men's Chorus of Charlotte Presents: JOY!
DESCRIPTION:Get ready for Joy!—the Gay Men’s Chorus of Charlotte’s beloved holiday extravaganza! Join us for a festive celebration filled with stunning harmonies\, classic carols\, and plenty of laughs to kick off the season. This year’s show sparkles with highlights like Dan Forrest’s spirited\, Irish-inspired Joy to the World\, Elaine Hagenberg’s hauntingly beautiful O Come\, Emmanuel\, and the outrageously fun SparkleJollyTwinkleJingly. Come ready to live\, laugh\, and love through the holiday season in true GMCC style!
URL:https://cltsings.org/performance/gay-mens-chorus-of-charlotte-presents-joy/2024-12-07/1/
LOCATION:Galilee Center\, 3601 Central Avenue\, Charlotte\, 28205
ATTACH;FMTTYPE=image/png:https://cltsings.org/wp-content/uploads/2024/11/1-1.png
ORGANIZER;CN="Gay Men's Chorus of Charlotte":MAILTO:tlogan@gmccharlotte.org
END:VEVENT
BEGIN:VEVENT
DTSTART;TZID=America/New_York:20241207T180000
DTEND;TZID=America/New_York:20241207T193000
DTSTAMP:20260425T085615
CREATED:20241112T212105Z
LAST-MODIFIED:20241112T212116Z
UID:10000053-1733594400-1733599800@cltsings.org
SUMMARY:7th Street Concerts: Music for the Winter Solstice
DESCRIPTION:A wintry adventure through centuries of music featuring arias\, chamber music\, and holiday carols inspired by the coldest and darkest time of year\, played by early music stars from across North America. Accompanied by spiced wine\, cider\, cozy treats and holiday cheer! Concert will be held in the Parish Hall of St. Peter’s Episcopal church. Ticket includes free parking and refreshments. \nMusic by Handel\, Purcell\, Vivaldi\, and Lalande\, plus our own arrangements of ancient carols and more. \nFeaturing Internationally Acclaimed artists including:\nPaul Chwe MinChul An\, Bass Baritone\nLaura Bohn\, Soprano\nAisslin Nosky\, Violin\nKristin Olson\, Oboe\nKieran Campbell\, Cello\nKevin Payne\, Theorbo and Renaissance Guitar
URL:https://cltsings.org/performance/music-for-the-winter-solstice/
LOCATION:St. Peter’s Episcopal Church\, 115 w 7th st\, Charlotte\, 28202
ATTACH;FMTTYPE=image/jpeg:https://cltsings.org/wp-content/uploads/2024/11/wintersolstice-2.jpg
ORGANIZER;CN="7th Street Concerts":MAILTO:contact@7thstreetconcerts.org
END:VEVENT
BEGIN:VEVENT
DTSTART;TZID=America/New_York:20241207T193000
DTEND;TZID=America/New_York:20241207T210000
DTSTAMP:20260425T085615
CREATED:20241108T142241Z
LAST-MODIFIED:20241108T152605Z
UID:10000049-1733599800-1733605200@cltsings.org
SUMMARY:Gay Men's Chorus of Charlotte Presents: JOY!
DESCRIPTION:Get ready for Joy!—the Gay Men’s Chorus of Charlotte’s beloved holiday extravaganza! Join us for a festive celebration filled with stunning harmonies\, classic carols\, and plenty of laughs to kick off the season. This year’s show sparkles with highlights like Dan Forrest’s spirited\, Irish-inspired Joy to the World\, Elaine Hagenberg’s hauntingly beautiful O Come\, Emmanuel\, and the outrageously fun SparkleJollyTwinkleJingly. Come ready to live\, laugh\, and love through the holiday season in true GMCC style!
URL:https://cltsings.org/performance/gay-mens-chorus-of-charlotte-presents-joy/2024-12-07/2/
LOCATION:Galilee Center\, 3601 Central Avenue\, Charlotte\, 28205
ATTACH;FMTTYPE=image/png:https://cltsings.org/wp-content/uploads/2024/11/1-1.png
ORGANIZER;CN="Gay Men's Chorus of Charlotte":MAILTO:tlogan@gmccharlotte.org
END:VEVENT
BEGIN:VEVENT
DTSTART;TZID=UTC:20241207T193000
DTEND;TZID=UTC:20241207T210000
DTSTAMP:20260425T085615
CREATED:20240821T221721Z
LAST-MODIFIED:20240919T141232Z
UID:10000021-1733599800-1733605200@cltsings.org
SUMMARY:Holiday Pops
DESCRIPTION:Join us for Charlotte’s most cherished holiday tradition as we bring beloved seasonal classics to life\, from timeless carols to spirited renditions of festive favorites. With dazzling arrangements\, heartwarming melodies\, and special surprises\, this joyful celebration is sure to delight audiences of all ages! \n  \nPurchase Tickets
URL:https://cltsings.org/performance/holiday-pops-3/2024-12-07/
LOCATION:Knight Theater\, 430 S Tryon St\, Charlotte\, United States
ATTACH;FMTTYPE=image/jpeg:https://cltsings.org/wp-content/uploads/2024/08/Concert-Images4.jpg
ORGANIZER;CN="Charlotte Master Chorale":MAILTO:philip.biedenbender@charlottemasterchorale.org
END:VEVENT
BEGIN:VEVENT
DTSTART;TZID=America/New_York:20241210T183000
DTEND;TZID=America/New_York:20241210T193000
DTSTAMP:20260425T085615
CREATED:20241108T142149Z
LAST-MODIFIED:20241108T142201Z
UID:10000038-1733855400-1733859000@cltsings.org
SUMMARY:JMRHS Chorus Winter Concert
DESCRIPTION:Jay M. Robinson High School Bulldog Chorus presents its winter chorus concert\, “Lessons and Carols\,” a blend of music about life lessons and values and holiday tunes\, featuring some songs written by our own students. This is the students’ cumulative showcase of their talents for the semester.
URL:https://cltsings.org/performance/jmrhs-chorus-winter-concert/
LOCATION:Jay M. Robinson High School Auditorium\, 300 Pitts School Rd SW\, Concord\, 28027
ATTACH;FMTTYPE=image/jpeg:https://cltsings.org/wp-content/uploads/2024/11/jay-m-robinson-high-school-concord-nc-2-schoolphoto.jpg
END:VEVENT
BEGIN:VEVENT
DTSTART;VALUE=DATE:20241213
DTEND;VALUE=DATE:20241215
DTSTAMP:20260425T085615
CREATED:20241108T141708Z
LAST-MODIFIED:20241108T141724Z
UID:10000040-1734048000-1734220799@cltsings.org
SUMMARY:OVC's Holiday Concert: Pride & Joy
DESCRIPTION:Kick off the season by celebrating queer Pride & Joy as we share tasteful choral selections spanning a range of holidays celebrated during this season. We are excited to share our performance in the lovely acoustics of First United Methodist Uptown this year. Join us as we celebrate our community and welcome in the holidays together. Use the code: PJ24EB to save $5 off on early bird tickets until Dec. 1st. \nAfter the concert\, we’ll host a FREE reception featuring a holiday carol sing-a-long\, complimentary beer from NoDa Brewing\, wine\, and soft drinks\, and holiday cookies galore. Come ready for a sweet treat! \nFree parking available (located at 163 W. 9th St between Church and Tryon Streets). \nRuntime: Approximately 75 minutes\nShow rating: G (all ages welcomed!)
URL:https://cltsings.org/performance/ovcs-holiday-concert-pride-joy/2024-12-13/1/
LOCATION:First United Methodist Church\, 501 N Tryon\, Charlotte\, 28202
ATTACH;FMTTYPE=image/jpeg:https://cltsings.org/wp-content/uploads/2024/11/2024-Pride-Joy_Web-Assets_Instagram.jpg
ORGANIZER;CN="One Voice Chorus":MAILTO:info@onevoicechorus.com
END:VEVENT
BEGIN:VEVENT
DTSTART;TZID=UTC:20241213T193000
DTEND;TZID=UTC:20241213T210000
DTSTAMP:20260425T085615
CREATED:20240821T221412Z
LAST-MODIFIED:20240919T140923Z
UID:10000010-1734118200-1734123600@cltsings.org
SUMMARY:Handel: Messiah
DESCRIPTION:The sacred holiday tradition of Handel’s stunning masterpiece returns. Join the Charlotte Symphony\, Charlotte Master Chorale\, and four soloists for this enduring oratorio filled with passion and exquisite beauty. “Hallelujah!” \nPurchase Tickets
URL:https://cltsings.org/performance/handel-messiah/2024-12-13/
LOCATION:Knight Theater\, 430 S Tryon St\, Charlotte\, United States
ATTACH;FMTTYPE=image/jpeg:https://cltsings.org/wp-content/uploads/2024/08/Concert-Images2.jpg
ORGANIZER;CN="Charlotte Master Chorale":MAILTO:philip.biedenbender@charlottemasterchorale.org
END:VEVENT
BEGIN:VEVENT
DTSTART;VALUE=DATE:20241213
DTEND;VALUE=DATE:20241214
DTSTAMP:20260425T085615
CREATED:20241108T141708Z
LAST-MODIFIED:20241108T141724Z
UID:10000041-1734118200-1734125400@cltsings.org
SUMMARY:OVC's Holiday Concert: Pride & Joy
DESCRIPTION:Kick off the season by celebrating queer Pride & Joy as we share tasteful choral selections spanning a range of holidays celebrated during this season. We are excited to share our performance in the lovely acoustics of First United Methodist Uptown this year. Join us as we celebrate our community and welcome in the holidays together. Use the code: PJ24EB to save $5 off on early bird tickets until Dec. 1st. \nAfter the concert\, we’ll host a FREE reception featuring a holiday carol sing-a-long\, complimentary beer from NoDa Brewing\, wine\, and soft drinks\, and holiday cookies galore. Come ready for a sweet treat! \nFree parking available (located at 163 W. 9th St between Church and Tryon Streets). \nRuntime: Approximately 75 minutes\nShow rating: G (all ages welcomed!)
URL:https://cltsings.org/performance/ovcs-holiday-concert-pride-joy/2024-12-13/2/
LOCATION:First United Methodist Church\, 501 N Tryon\, Charlotte\, 28202
ATTACH;FMTTYPE=image/jpeg:https://cltsings.org/wp-content/uploads/2024/11/2024-Pride-Joy_Web-Assets_Instagram.jpg
ORGANIZER;CN="One Voice Chorus":MAILTO:info@onevoicechorus.com
END:VEVENT
BEGIN:VEVENT
DTSTART;VALUE=DATE:20241214
DTEND;VALUE=DATE:20241215
DTSTAMP:20260425T085615
CREATED:20241108T141708Z
LAST-MODIFIED:20241108T141724Z
UID:10000042-1734184800-1734192000@cltsings.org
SUMMARY:OVC's Holiday Concert: Pride & Joy
DESCRIPTION:Kick off the season by celebrating queer Pride & Joy as we share tasteful choral selections spanning a range of holidays celebrated during this season. We are excited to share our performance in the lovely acoustics of First United Methodist Uptown this year. Join us as we celebrate our community and welcome in the holidays together. Use the code: PJ24EB to save $5 off on early bird tickets until Dec. 1st. \nAfter the concert\, we’ll host a FREE reception featuring a holiday carol sing-a-long\, complimentary beer from NoDa Brewing\, wine\, and soft drinks\, and holiday cookies galore. Come ready for a sweet treat! \nFree parking available (located at 163 W. 9th St between Church and Tryon Streets). \nRuntime: Approximately 75 minutes\nShow rating: G (all ages welcomed!)
URL:https://cltsings.org/performance/ovcs-holiday-concert-pride-joy/2024-12-14/1/
LOCATION:First United Methodist Church\, 501 N Tryon\, Charlotte\, 28202
ATTACH;FMTTYPE=image/jpeg:https://cltsings.org/wp-content/uploads/2024/11/2024-Pride-Joy_Web-Assets_Instagram.jpg
ORGANIZER;CN="One Voice Chorus":MAILTO:info@onevoicechorus.com
END:VEVENT
BEGIN:VEVENT
DTSTART;TZID=America/New_York:20241214T150000
DTEND;TZID=America/New_York:20241214T170000
DTSTAMP:20260425T085615
CREATED:20240926T195606Z
LAST-MODIFIED:20241004T175859Z
UID:10000029-1734188400-1734195600@cltsings.org
SUMMARY:70th Annual The Singing Christmas Tree
DESCRIPTION:Carolina Voices presents a celebration of holiday entertainment at The 70th Annual Singing Christmas Tree! The warm sounds of the season will fill the CPCC Dale F. Halton Theater as the soaring voices of the MainStage Choir (in a 32’ specially-designed tree!) perform all your favorite Christmas music – from the inspirational and sacred\, to the traditional\, pop\, and family classics. The stage will sparkle with whimsical dance\, magical tricks\, and special friends who will warm your heart at this most wonderful time of the year! \nThis year\, we are joined on stage by the fabulous cast of Charlotte Squawks\, led by Mike Collins! Charlotte Squawks is an annual musical satire show that has been around since 2004\, and pokes fun at pop culture\, politics\, and local events in Charlotte\, NC. Combining the talents of professional actors\, singers\, and comedians\, the show features original sketches and musical parodies\, delivering a hilarious commentary on Charlotte area issues. With sharp wit\, clever writing\, and dynamic performances\, Charlotte Squawks has become a beloved tradition in the city’s theater scene\, entertaining audiences with its unique blend of humor and insight.
URL:https://cltsings.org/performance/70th-annual-the-singing-christmas-tree/2024-12-14/1/
ATTACH;FMTTYPE=image/png:https://cltsings.org/wp-content/uploads/2024/09/SCT-AD-for-Squawks-Program-1200-x-800-px.png
ORGANIZER;CN="Carolina Voices":MAILTO:marketing@carolinavoices.org
END:VEVENT
BEGIN:VEVENT
DTSTART;TZID=UTC:20241214T193000
DTEND;TZID=UTC:20241214T210000
DTSTAMP:20260425T085615
CREATED:20240821T221412Z
LAST-MODIFIED:20240919T140923Z
UID:10000018-1734204600-1734210000@cltsings.org
SUMMARY:Handel: Messiah
DESCRIPTION:The sacred holiday tradition of Handel’s stunning masterpiece returns. Join the Charlotte Symphony\, Charlotte Master Chorale\, and four soloists for this enduring oratorio filled with passion and exquisite beauty. “Hallelujah!” \nPurchase Tickets
URL:https://cltsings.org/performance/handel-messiah/2024-12-14/
LOCATION:Knight Theater\, 430 S Tryon St\, Charlotte\, United States
ATTACH;FMTTYPE=image/jpeg:https://cltsings.org/wp-content/uploads/2024/08/Concert-Images2.jpg
ORGANIZER;CN="Charlotte Master Chorale":MAILTO:philip.biedenbender@charlottemasterchorale.org
END:VEVENT
BEGIN:VEVENT
DTSTART;VALUE=DATE:20241214
DTEND;VALUE=DATE:20241215
DTSTAMP:20260425T085615
CREATED:20241108T141708Z
LAST-MODIFIED:20241108T141724Z
UID:10000043-1734204600-1734211800@cltsings.org
SUMMARY:OVC's Holiday Concert: Pride & Joy
DESCRIPTION:Kick off the season by celebrating queer Pride & Joy as we share tasteful choral selections spanning a range of holidays celebrated during this season. We are excited to share our performance in the lovely acoustics of First United Methodist Uptown this year. Join us as we celebrate our community and welcome in the holidays together. Use the code: PJ24EB to save $5 off on early bird tickets until Dec. 1st. \nAfter the concert\, we’ll host a FREE reception featuring a holiday carol sing-a-long\, complimentary beer from NoDa Brewing\, wine\, and soft drinks\, and holiday cookies galore. Come ready for a sweet treat! \nFree parking available (located at 163 W. 9th St between Church and Tryon Streets). \nRuntime: Approximately 75 minutes\nShow rating: G (all ages welcomed!)
URL:https://cltsings.org/performance/ovcs-holiday-concert-pride-joy/2024-12-14/2/
LOCATION:First United Methodist Church\, 501 N Tryon\, Charlotte\, 28202
ATTACH;FMTTYPE=image/jpeg:https://cltsings.org/wp-content/uploads/2024/11/2024-Pride-Joy_Web-Assets_Instagram.jpg
ORGANIZER;CN="One Voice Chorus":MAILTO:info@onevoicechorus.com
END:VEVENT
BEGIN:VEVENT
DTSTART;TZID=America/New_York:20241214T193000
DTEND;TZID=America/New_York:20241214T213000
DTSTAMP:20260425T085615
CREATED:20240926T195606Z
LAST-MODIFIED:20241004T175859Z
UID:10000030-1734204600-1734211800@cltsings.org
SUMMARY:70th Annual The Singing Christmas Tree
DESCRIPTION:Carolina Voices presents a celebration of holiday entertainment at The 70th Annual Singing Christmas Tree! The warm sounds of the season will fill the CPCC Dale F. Halton Theater as the soaring voices of the MainStage Choir (in a 32’ specially-designed tree!) perform all your favorite Christmas music – from the inspirational and sacred\, to the traditional\, pop\, and family classics. The stage will sparkle with whimsical dance\, magical tricks\, and special friends who will warm your heart at this most wonderful time of the year! \nThis year\, we are joined on stage by the fabulous cast of Charlotte Squawks\, led by Mike Collins! Charlotte Squawks is an annual musical satire show that has been around since 2004\, and pokes fun at pop culture\, politics\, and local events in Charlotte\, NC. Combining the talents of professional actors\, singers\, and comedians\, the show features original sketches and musical parodies\, delivering a hilarious commentary on Charlotte area issues. With sharp wit\, clever writing\, and dynamic performances\, Charlotte Squawks has become a beloved tradition in the city’s theater scene\, entertaining audiences with its unique blend of humor and insight.
URL:https://cltsings.org/performance/70th-annual-the-singing-christmas-tree/2024-12-14/2/
ATTACH;FMTTYPE=image/png:https://cltsings.org/wp-content/uploads/2024/09/SCT-AD-for-Squawks-Program-1200-x-800-px.png
ORGANIZER;CN="Carolina Voices":MAILTO:marketing@carolinavoices.org
END:VEVENT
BEGIN:VEVENT
DTSTART;TZID=America/New_York:20241215T160000
DTEND;TZID=America/New_York:20241215T180000
DTSTAMP:20260425T085615
CREATED:20240926T195606Z
LAST-MODIFIED:20241004T175859Z
UID:10000031-1734278400-1734285600@cltsings.org
SUMMARY:70th Annual The Singing Christmas Tree
DESCRIPTION:Carolina Voices presents a celebration of holiday entertainment at The 70th Annual Singing Christmas Tree! The warm sounds of the season will fill the CPCC Dale F. Halton Theater as the soaring voices of the MainStage Choir (in a 32’ specially-designed tree!) perform all your favorite Christmas music – from the inspirational and sacred\, to the traditional\, pop\, and family classics. The stage will sparkle with whimsical dance\, magical tricks\, and special friends who will warm your heart at this most wonderful time of the year! \nThis year\, we are joined on stage by the fabulous cast of Charlotte Squawks\, led by Mike Collins! Charlotte Squawks is an annual musical satire show that has been around since 2004\, and pokes fun at pop culture\, politics\, and local events in Charlotte\, NC. Combining the talents of professional actors\, singers\, and comedians\, the show features original sketches and musical parodies\, delivering a hilarious commentary on Charlotte area issues. With sharp wit\, clever writing\, and dynamic performances\, Charlotte Squawks has become a beloved tradition in the city’s theater scene\, entertaining audiences with its unique blend of humor and insight.
URL:https://cltsings.org/performance/70th-annual-the-singing-christmas-tree/2024-12-15/
ATTACH;FMTTYPE=image/png:https://cltsings.org/wp-content/uploads/2024/09/SCT-AD-for-Squawks-Program-1200-x-800-px.png
ORGANIZER;CN="Carolina Voices":MAILTO:marketing@carolinavoices.org
END:VEVENT
BEGIN:VEVENT
DTSTART;TZID=UTC:20241215T193000
DTEND;TZID=UTC:20241215T210000
DTSTAMP:20260425T085615
CREATED:20240821T221412Z
LAST-MODIFIED:20240919T140923Z
UID:10000019-1734291000-1734296400@cltsings.org
SUMMARY:Handel: Messiah
DESCRIPTION:The sacred holiday tradition of Handel’s stunning masterpiece returns. Join the Charlotte Symphony\, Charlotte Master Chorale\, and four soloists for this enduring oratorio filled with passion and exquisite beauty. “Hallelujah!” \nPurchase Tickets
URL:https://cltsings.org/performance/handel-messiah/2024-12-15/
LOCATION:Knight Theater\, 430 S Tryon St\, Charlotte\, United States
ATTACH;FMTTYPE=image/jpeg:https://cltsings.org/wp-content/uploads/2024/08/Concert-Images2.jpg
ORGANIZER;CN="Charlotte Master Chorale":MAILTO:philip.biedenbender@charlottemasterchorale.org
END:VEVENT
BEGIN:VEVENT
DTSTART;TZID=America/New_York:20241217T190000
DTEND;TZID=America/New_York:20241217T203000
DTSTAMP:20260425T085615
CREATED:20241101T191222Z
LAST-MODIFIED:20241101T191248Z
UID:10000037-1734462000-1734467400@cltsings.org
SUMMARY:Butler High School Winter Chorus Concert
DESCRIPTION:The choirs of Butler High School will be presenting their annual Winter Concert\, with a wide variety of styles and genres. Tickets are $10 for adults\, $5 for students. \nMager Auditorium\nButler High School\n1810 Matthews-Mint Hill Rd.\nMatthews\, NC 28105
URL:https://cltsings.org/performance/butler-high-school-winter-chorus-concert/
LOCATION:Mager Auditorium\, Butler High School\, 1810 Matthews-Mint Hill Rd.\, Matthews\, NC\, 28105\, United States
ATTACH;FMTTYPE=image/jpeg:https://cltsings.org/wp-content/uploads/2024/11/Butler-Choir-in-NYC-rotated.jpg
END:VEVENT
END:VCALENDAR