BEGIN:VCALENDAR
VERSION:2.0
PRODID:-//CLTSings - ECPv6.15.20//NONSGML v1.0//EN
CALSCALE:GREGORIAN
METHOD:PUBLISH
X-ORIGINAL-URL:https://cltsings.org
X-WR-CALDESC:Events for CLTSings
REFRESH-INTERVAL;VALUE=DURATION:PT1H
X-Robots-Tag:noindex
X-PUBLISHED-TTL:PT1H
BEGIN:VTIMEZONE
TZID:America/New_York
BEGIN:DAYLIGHT
TZOFFSETFROM:-0500
TZOFFSETTO:-0400
TZNAME:EDT
DTSTART:20250309T070000
END:DAYLIGHT
BEGIN:STANDARD
TZOFFSETFROM:-0400
TZOFFSETTO:-0500
TZNAME:EST
DTSTART:20251102T060000
END:STANDARD
BEGIN:DAYLIGHT
TZOFFSETFROM:-0500
TZOFFSETTO:-0400
TZNAME:EDT
DTSTART:20260308T070000
END:DAYLIGHT
BEGIN:STANDARD
TZOFFSETFROM:-0400
TZOFFSETTO:-0500
TZNAME:EST
DTSTART:20261101T060000
END:STANDARD
BEGIN:DAYLIGHT
TZOFFSETFROM:-0500
TZOFFSETTO:-0400
TZNAME:EDT
DTSTART:20270314T070000
END:DAYLIGHT
BEGIN:STANDARD
TZOFFSETFROM:-0400
TZOFFSETTO:-0500
TZNAME:EST
DTSTART:20271107T060000
END:STANDARD
END:VTIMEZONE
BEGIN:VEVENT
DTSTART;TZID=America/New_York:20260206T193000
DTEND;TZID=America/New_York:20260206T210000
DTSTAMP:20260423T192323
CREATED:20250611T151414Z
LAST-MODIFIED:20250611T152427Z
UID:10000087-1770406200-1770411600@cltsings.org
SUMMARY:Rachmaninoff: Vespers
DESCRIPTION:Step into the transcendent world of Rachmaninoff’s “Vespers\,” a spiritual and sonic landmark of the choral repertoire\, performed by the Charlotte Master Chorale Main Chorus. Grounded in reverence\, this meditative work envelops audiences in serene beauty and profound emotion\, inviting listeners to connect more deeply with the human voice and spirit. \nCharlotte Master Chorale Main Chorus\nKenney Potter\, conductor \nFree parking is available in First UMC’s parking garage located at 163 W. Ninth Street between Tryon and Church Streets and\, for Davidson College Presbyterian\, along the two main roads that intersect in front of the church (Main Street and Concord Road)\, in public lots behind the row of businesses on Main Street\, further down Concord Road in lots on the Davidson College campus\, by the public library; and on Lorimer Road.
URL:https://cltsings.org/performance/rachmaninoff-vespers-2/
LOCATION:First United Methodist Church\, 501 N Tryon\, Charlotte\, 28202
CATEGORIES:Choral
ATTACH;FMTTYPE=image/jpeg:https://cltsings.org/wp-content/uploads/2025/06/Wholeness-2-2-2-scaled.jpeg
ORGANIZER;CN="Charlotte Master Chorale":MAILTO:philip.biedenbender@charlottemasterchorale.org
END:VEVENT
BEGIN:VEVENT
DTSTART;TZID=America/New_York:20260207T193000
DTEND;TZID=America/New_York:20260207T210000
DTSTAMP:20260423T192323
CREATED:20250611T151345Z
LAST-MODIFIED:20250611T152518Z
UID:10000089-1770492600-1770498000@cltsings.org
SUMMARY:Rachmaninoff: Vespers
DESCRIPTION:Step into the transcendent world of Rachmaninoff’s “Vespers\,” a spiritual and sonic landmark of the choral repertoire\, performed by the Charlotte Master Chorale Main Chorus. Grounded in reverence\, this meditative work envelops audiences in serene beauty and profound emotion\, inviting listeners to connect more deeply with the human voice and spirit. \nCharlotte Master Chorale Main Chorus\nKenney Potter\, conductor \nFree parking is available in First UMC’s parking garage located at 163 W. Ninth Street between Tryon and Church Streets and\, for Davidson College Presbyterian\, along the two main roads that intersect in front of the church (Main Street and Concord Road)\, in public lots behind the row of businesses on Main Street\, further down Concord Road in lots on the Davidson College campus\, by the public library; and on Lorimer Road.
URL:https://cltsings.org/performance/rachmaninoff-vespers/
LOCATION:Davidson College Presbyterian Church\, 100 North Main Street\, Davidson\, NC\, 28036\, United States
CATEGORIES:Choral
ATTACH;FMTTYPE=image/jpeg:https://cltsings.org/wp-content/uploads/2025/06/Wholeness-2-2-3-scaled.jpeg
ORGANIZER;CN="Charlotte Master Chorale":MAILTO:philip.biedenbender@charlottemasterchorale.org
END:VEVENT
END:VCALENDAR