BEGIN:VCALENDAR
VERSION:2.0
PRODID:-//CLTSings - ECPv6.15.20//NONSGML v1.0//EN
CALSCALE:GREGORIAN
METHOD:PUBLISH
X-WR-CALNAME:CLTSings
X-ORIGINAL-URL:https://cltsings.org
X-WR-CALDESC:Events for CLTSings
REFRESH-INTERVAL;VALUE=DURATION:PT1H
X-Robots-Tag:noindex
X-PUBLISHED-TTL:PT1H
BEGIN:VTIMEZONE
TZID:America/New_York
BEGIN:DAYLIGHT
TZOFFSETFROM:-0500
TZOFFSETTO:-0400
TZNAME:EDT
DTSTART:20240310T070000
END:DAYLIGHT
BEGIN:STANDARD
TZOFFSETFROM:-0400
TZOFFSETTO:-0500
TZNAME:EST
DTSTART:20241103T060000
END:STANDARD
BEGIN:DAYLIGHT
TZOFFSETFROM:-0500
TZOFFSETTO:-0400
TZNAME:EDT
DTSTART:20250309T070000
END:DAYLIGHT
BEGIN:STANDARD
TZOFFSETFROM:-0400
TZOFFSETTO:-0500
TZNAME:EST
DTSTART:20251102T060000
END:STANDARD
BEGIN:DAYLIGHT
TZOFFSETFROM:-0500
TZOFFSETTO:-0400
TZNAME:EDT
DTSTART:20260308T070000
END:DAYLIGHT
BEGIN:STANDARD
TZOFFSETFROM:-0400
TZOFFSETTO:-0500
TZNAME:EST
DTSTART:20261101T060000
END:STANDARD
END:VTIMEZONE
BEGIN:VEVENT
DTSTART;TZID=America/New_York:20251017T193000
DTEND;TZID=America/New_York:20251017T210000
DTSTAMP:20260424T011803
CREATED:20250917T120927Z
LAST-MODIFIED:20251010T145935Z
UID:10000840-1760729400-1760734800@cltsings.org
SUMMARY:Heavenly Harmony: A Choral-Orchestral Celebration
DESCRIPTION:Experience an evening of radiant music and shared spirit as Caritas A Cappella Ensemble joins forces with the Christ Church Choir and instrumentalists for Heavenly Harmony: A Choral & Orchestral Celebration. This inspiring program brings together Roxanna Panufnik’s shimmering Heav’nly Harmony\, Benjamin Britten’s joyous Rejoice in the Lamb\, Rosephanye Powell’s powerful The Word Was God\, and Elaine Hagenberg’s luminous Illuminare. With music that uplifts\, encourages\, and shines light in times of trial\, the concert promises a moving celebration of resilience\, unity\, and hope.
URL:https://cltsings.org/performance/heavenly-harmony-choral-orchestral-celebration/
LOCATION:Christ Church Charlotte\, 1412 Providence Rd\, Charlotte\, NC\, United States
CATEGORIES:Choral
ATTACH;FMTTYPE=image/jpeg:https://cltsings.org/wp-content/uploads/2025/09/Caritas_HeavenlyHarmony_website_space.jpg
ORGANIZER;CN="Caritas A Cappella Ensemble":MAILTO:info@caritasacappella.org
END:VEVENT
BEGIN:VEVENT
DTSTART;TZID=America/New_York:20251024T193000
DTEND;TZID=America/New_York:20251024T204500
DTSTAMP:20260424T011803
CREATED:20250611T151543Z
LAST-MODIFIED:20251010T160431Z
UID:10000084-1761334200-1761338700@cltsings.org
SUMMARY:Charlotte Master Chorale Chamber Singers: Classics
DESCRIPTION:Experience Charlotte’s premier chamber choir\, the Charlotte Master Chorale Chamber Singers\, in an intimate concert of choral masterpieces spanning centuries and genres\, featuring favorites by Palestrina\, Mendelssohn\, Copland\, Whitacre\, and more. \nCharlotte Master Chorale Chamber Singers\nKenney Potter\, conductor\nPhilip Biedenbender\, piano \nFree parking is available on-site in Christ Church Charlotte’s parking lots off Providence Road.
URL:https://cltsings.org/performance/chamber-singers-classics-3/
LOCATION:Christ Church Charlotte\, 1412 Providence Rd\, Charlotte\, NC\, United States
CATEGORIES:Choral
ATTACH;FMTTYPE=image/jpeg:https://cltsings.org/wp-content/uploads/2025/06/2Q7A1758-copy-scaled.jpg
ORGANIZER;CN="Charlotte Master Chorale":MAILTO:philip.biedenbender@charlottemasterchorale.org
END:VEVENT
BEGIN:VEVENT
DTSTART;TZID=America/New_York:20251025T193000
DTEND;TZID=America/New_York:20251025T204500
DTSTAMP:20260424T011803
CREATED:20250611T151556Z
LAST-MODIFIED:20251010T160441Z
UID:10000085-1761420600-1761425100@cltsings.org
SUMMARY:Charlotte Master Chorale Chamber Singers: Classics
DESCRIPTION:Experience Charlotte’s premier chamber choir\, the Charlotte Master Chorale Chamber Singers\, in an intimate concert of choral masterpieces spanning centuries and genres\, featuring favorites by Palestrina\, Mendelssohn\, Copland\, Whitacre\, and more. \nCharlotte Master Chorale Chamber Singers\nKenney Potter\, conductor\nPhilip Biedenbender\, piano \nFree parking is available on-site in Belmont Abbey’s parking lots directly in front of the Abbey Basilica.
URL:https://cltsings.org/performance/chamber-singers-classics-4/
LOCATION:Abbey Basilica of Mary Help of Christians\, Belmont Abbey\, 100 Belmont-Mt Holly Rd\, Belmont\, 28012
CATEGORIES:Choral
ATTACH;FMTTYPE=image/jpeg:https://cltsings.org/wp-content/uploads/2025/06/2Q7A1758-copy-scaled.jpg
ORGANIZER;CN="Charlotte Master Chorale":MAILTO:philip.biedenbender@charlottemasterchorale.org
END:VEVENT
BEGIN:VEVENT
DTSTART;TZID=America/New_York:20251030T193000
DTEND;TZID=America/New_York:20251030T213000
DTSTAMP:20260424T011803
CREATED:20250821T133113Z
LAST-MODIFIED:20250821T133113Z
UID:10000098-1761852600-1761859800@cltsings.org
SUMMARY:Chroma Cabaret: Unleashed
DESCRIPTION:This Halloween\, we’re slipping the collars\, breaking the cages\, and letting our inner beasts out to play. After last year’s Villains event\, we’re back with something even more primal. Unleashed explores the wild\, the wicked\, and the wonderfully feral. Think leather\, lashes\, howls in the dark\, and performers who know exactly when to sit… and when to bite. From purring ballads to growling bangers\, this is Chroma like you’ve never seen us before. Come howl with us!
URL:https://cltsings.org/performance/chroma-cabaret-unleashed/
LOCATION:Free Range Brewing\, 2320 N Davidson St\, Charlotte\, 28205
CATEGORIES:Choral
ATTACH;FMTTYPE=image/jpeg:https://cltsings.org/wp-content/uploads/2025/08/2025_Unleashed_Web-Assets_Web-Banner.jpg
ORGANIZER;CN="One Voice Chorus":MAILTO:info@onevoicechorus.com
END:VEVENT
END:VCALENDAR