BEGIN:VCALENDAR
VERSION:2.0
PRODID:-//CLTSings - ECPv6.15.20//NONSGML v1.0//EN
CALSCALE:GREGORIAN
METHOD:PUBLISH
X-ORIGINAL-URL:https://cltsings.org
X-WR-CALDESC:Events for CLTSings
REFRESH-INTERVAL;VALUE=DURATION:PT1H
X-Robots-Tag:noindex
X-PUBLISHED-TTL:PT1H
BEGIN:VTIMEZONE
TZID:America/New_York
BEGIN:DAYLIGHT
TZOFFSETFROM:-0500
TZOFFSETTO:-0400
TZNAME:EDT
DTSTART:20240310T070000
END:DAYLIGHT
BEGIN:STANDARD
TZOFFSETFROM:-0400
TZOFFSETTO:-0500
TZNAME:EST
DTSTART:20241103T060000
END:STANDARD
BEGIN:DAYLIGHT
TZOFFSETFROM:-0500
TZOFFSETTO:-0400
TZNAME:EDT
DTSTART:20250309T070000
END:DAYLIGHT
BEGIN:STANDARD
TZOFFSETFROM:-0400
TZOFFSETTO:-0500
TZNAME:EST
DTSTART:20251102T060000
END:STANDARD
BEGIN:DAYLIGHT
TZOFFSETFROM:-0500
TZOFFSETTO:-0400
TZNAME:EDT
DTSTART:20260308T070000
END:DAYLIGHT
BEGIN:STANDARD
TZOFFSETFROM:-0400
TZOFFSETTO:-0500
TZNAME:EST
DTSTART:20261101T060000
END:STANDARD
END:VTIMEZONE
BEGIN:VEVENT
DTSTART;TZID=America/New_York:20250912T193000
DTEND;TZID=America/New_York:20250912T210000
DTSTAMP:20260424T024659
CREATED:20250903T125827Z
LAST-MODIFIED:20250903T125827Z
UID:10000838-1757705400-1757710800@cltsings.org
SUMMARY:Gay Men's Chorus of Charlotte Presents: ICONS
DESCRIPTION:Celebrate Pride with power chords\, powerhouse vocals\, and pure joy! The Gay Men’s Chorus of Charlotte presents ICONS: Pride Goes Pop—a bold\, high-energy concert of anthems that have defined LGBTQ+ visibility and resilience over the past two decades. \nThis electrifying program features stunning choral takes on modern Pride favorites like Brave (Sara Bareilles)\, Dancing on My Own (Calum Scott)\, Follow Your Arrow (Kacey Musgraves)\, Born This Way (Lady Gaga)\, and a heart-lifting mashup of True Colors (Cyndi Lauper) and Roar (Katy Perry). You’ll also hear reimagined ballads and bangers from icons like Cher\, George Michael\, and ABBA—all delivered with the rich\, powerful harmonies only GMCC can bring. \nThese aren’t just songs—they’re declarations. Of love. Of identity. Of being seen and heard. Whether you’re here to sing along\, sway with friends\, or soak in the sound of queer joy\, ICONS invites you to take your place in the chorus. \nGet your tickets\, bring your voice\, and let’s celebrate what makes our community unforgettable—one pop anthem at a time. \nPLEASE NOTE THE NEW VENUE: \nArts+ \n2304 The Plaza\, Charlotte NC \nTWO FABULOUS SHOWS! \nSeptember 12\, 2025 7:30pm \nSeptember 13\, 2025 7:30pm \nDO NOT MISS THIS SPECTACULAR EVENT!
URL:https://cltsings.org/performance/gay-mens-chorus-of-charlotte-presents-icons/2025-09-12/
LOCATION:Arts+ Community Campus\, 2304 The Plaza\, Charlotte\, 28205
CATEGORIES:Choral
ATTACH;FMTTYPE=image/png:https://cltsings.org/wp-content/uploads/2025/09/1.png
ORGANIZER;CN="Gay Men's Chorus of Charlotte":MAILTO:tlogan@gmccharlotte.org
END:VEVENT
BEGIN:VEVENT
DTSTART;TZID=America/New_York:20250913T193000
DTEND;TZID=America/New_York:20250913T210000
DTSTAMP:20260424T024659
CREATED:20250903T125827Z
LAST-MODIFIED:20250903T125827Z
UID:10000839-1757791800-1757797200@cltsings.org
SUMMARY:Gay Men's Chorus of Charlotte Presents: ICONS
DESCRIPTION:Celebrate Pride with power chords\, powerhouse vocals\, and pure joy! The Gay Men’s Chorus of Charlotte presents ICONS: Pride Goes Pop—a bold\, high-energy concert of anthems that have defined LGBTQ+ visibility and resilience over the past two decades. \nThis electrifying program features stunning choral takes on modern Pride favorites like Brave (Sara Bareilles)\, Dancing on My Own (Calum Scott)\, Follow Your Arrow (Kacey Musgraves)\, Born This Way (Lady Gaga)\, and a heart-lifting mashup of True Colors (Cyndi Lauper) and Roar (Katy Perry). You’ll also hear reimagined ballads and bangers from icons like Cher\, George Michael\, and ABBA—all delivered with the rich\, powerful harmonies only GMCC can bring. \nThese aren’t just songs—they’re declarations. Of love. Of identity. Of being seen and heard. Whether you’re here to sing along\, sway with friends\, or soak in the sound of queer joy\, ICONS invites you to take your place in the chorus. \nGet your tickets\, bring your voice\, and let’s celebrate what makes our community unforgettable—one pop anthem at a time. \nPLEASE NOTE THE NEW VENUE: \nArts+ \n2304 The Plaza\, Charlotte NC \nTWO FABULOUS SHOWS! \nSeptember 12\, 2025 7:30pm \nSeptember 13\, 2025 7:30pm \nDO NOT MISS THIS SPECTACULAR EVENT!
URL:https://cltsings.org/performance/gay-mens-chorus-of-charlotte-presents-icons/2025-09-13/
LOCATION:Arts+ Community Campus\, 2304 The Plaza\, Charlotte\, 28205
CATEGORIES:Choral
ATTACH;FMTTYPE=image/png:https://cltsings.org/wp-content/uploads/2025/09/1.png
ORGANIZER;CN="Gay Men's Chorus of Charlotte":MAILTO:tlogan@gmccharlotte.org
END:VEVENT
BEGIN:VEVENT
DTSTART;TZID=America/New_York:20250920T160000
DTEND;TZID=America/New_York:20250920T190000
DTSTAMP:20260424T024659
CREATED:20250611T151009Z
LAST-MODIFIED:20250611T151009Z
UID:10000082-1758384000-1758394800@cltsings.org
SUMMARY:Charlotte Sings! 2025: FREE Community Concert
DESCRIPTION:Join us for a joyous afternoon of performances celebrating the rich diversity of the Charlotte singing community. Performing groups include Brighter Day Community Choir\, Caritas\, Carolina Lady Singers\, Carolina Voices Festival Singers\, Charlotte Chamber Choir\, Charlotte Master Chorale\, Charlotte Singers\, Gay Men’s Chorus of Charlotte\, Impromptu\, One Voice Chorus of Charlotte\, Queen Charlotte Chorus\, Queen City Groove\, Queen City Vocals\, and Women’s Chorus of Charlotte. \nFree parking is available on-site in Covenant Presbyterian’s parking lots and on the adjoining side streets. \nThis event is FREE and open to the public. Advance registration is highly encouraged.
URL:https://cltsings.org/performance/charlotte-sings-2025-free-community-concert/
LOCATION:Covenant Presbyterian Church\, 1000 E Morehead St\, Charlotte\, NC\, United States
CATEGORIES:Choral
ATTACH;FMTTYPE=image/jpeg:https://cltsings.org/wp-content/uploads/2025/06/CLT-Sings-Community-Concert-Logo-800x800-1.jpg
ORGANIZER;CN="CLTSings":MAILTO:info@cltsings.org
END:VEVENT
BEGIN:VEVENT
DTSTART;TZID=America/New_York:20250920T173000
DTEND;TZID=America/New_York:20250920T190000
DTSTAMP:20260424T024659
CREATED:20250917T120837Z
LAST-MODIFIED:20250917T120837Z
UID:10000842-1758389400-1758394800@cltsings.org
SUMMARY:QCG: Dinner and Mini-Concert
DESCRIPTION:Come out for dinner\, fellowship\, and music as Queen City Groove shares a mini a cappella concert! \nFree and open to the public! \nSpaghetti dinner begins at 5:30pm and concert will start at 6:30pm.
URL:https://cltsings.org/performance/qcg-dinner-and-mini-concert/
LOCATION:Stallings Community Church\, 1115 Stallings Rd\, Matthews\, 28104
CATEGORIES:Choral
ATTACH;FMTTYPE=image/jpeg:https://cltsings.org/wp-content/uploads/2025/09/IMG_7550-scaled.jpg
ORGANIZER;CN="Queen City Groove":MAILTO:Info@queencitygroove.com
END:VEVENT
END:VCALENDAR