BEGIN:VCALENDAR
VERSION:2.0
PRODID:-//CLTSings - ECPv6.15.20//NONSGML v1.0//EN
CALSCALE:GREGORIAN
METHOD:PUBLISH
X-ORIGINAL-URL:https://cltsings.org
X-WR-CALDESC:Events for CLTSings
REFRESH-INTERVAL;VALUE=DURATION:PT1H
X-Robots-Tag:noindex
X-PUBLISHED-TTL:PT1H
BEGIN:VTIMEZONE
TZID:America/New_York
BEGIN:DAYLIGHT
TZOFFSETFROM:-0500
TZOFFSETTO:-0400
TZNAME:EDT
DTSTART:20250309T070000
END:DAYLIGHT
BEGIN:STANDARD
TZOFFSETFROM:-0400
TZOFFSETTO:-0500
TZNAME:EST
DTSTART:20251102T060000
END:STANDARD
BEGIN:DAYLIGHT
TZOFFSETFROM:-0500
TZOFFSETTO:-0400
TZNAME:EDT
DTSTART:20260308T070000
END:DAYLIGHT
BEGIN:STANDARD
TZOFFSETFROM:-0400
TZOFFSETTO:-0500
TZNAME:EST
DTSTART:20261101T060000
END:STANDARD
BEGIN:DAYLIGHT
TZOFFSETFROM:-0500
TZOFFSETTO:-0400
TZNAME:EDT
DTSTART:20270314T070000
END:DAYLIGHT
BEGIN:STANDARD
TZOFFSETFROM:-0400
TZOFFSETTO:-0500
TZNAME:EST
DTSTART:20271107T060000
END:STANDARD
END:VTIMEZONE
BEGIN:VEVENT
DTSTART;TZID=America/New_York:20260410T193000
DTEND;TZID=America/New_York:20260410T213000
DTSTAMP:20260423T174952
CREATED:20251031T204430Z
LAST-MODIFIED:20251031T204611Z
UID:10000872-1775849400-1775856600@cltsings.org
SUMMARY:Clyne "The Years"
DESCRIPTION:Beethoven’s “Emperor” Concerto\, a heroic masterpiece composed amidst the chaos of the 1809 French siege of Vienna\, highlights a program of discord and beauty. Despite the tumultuous backdrop\, Beethoven’s brilliance shines through in an inspiring dialogue between the soloist and orchestra\, blending majestic power with sublime beauty. Marianna Martines’s Sinfonia in C Major opens the program with vibrant energy\, highlighting the classical style of a trailblazing composer — recognized as the first woman to compose a symphony. The Charlotte Master Chorale joins the Orchestra for the U.S. Premiere of Anna Clyne’s The Years\, a poignant musical response to the forced isolation and uncertainty of the 2020 pandemic. \nMARTINES Sinfonia in C Major\nAnna CLYNE The Years (U.S. Premiere)\nBEETHOVEN Piano Concerto No. 5\, “Emperor” \nStephanie Rhodes Russell\, conductor\nInon Barnatan\, piano\nCharlotte Master Chorale\nCharlotte Symphony Orchestra
URL:https://cltsings.org/performance/clyne-the-years/2026-04-10/
LOCATION:Belk Theater\, 130 N Tryon St.\, Charlotte\, United States
CATEGORIES:Choral-Orchestral
ATTACH;FMTTYPE=image/jpeg:https://cltsings.org/wp-content/uploads/2025/10/Anna-Clyne.jpg
ORGANIZER;CN="Charlotte Master Chorale":MAILTO:philip.biedenbender@charlottemasterchorale.org
END:VEVENT
END:VCALENDAR