BEGIN:VCALENDAR
VERSION:2.0
PRODID:-//CLTSings - ECPv6.15.20//NONSGML v1.0//EN
CALSCALE:GREGORIAN
METHOD:PUBLISH
X-WR-CALNAME:CLTSings
X-ORIGINAL-URL:https://cltsings.org
X-WR-CALDESC:Events for CLTSings
REFRESH-INTERVAL;VALUE=DURATION:PT1H
X-Robots-Tag:noindex
X-PUBLISHED-TTL:PT1H
BEGIN:VTIMEZONE
TZID:America/New_York
BEGIN:DAYLIGHT
TZOFFSETFROM:-0500
TZOFFSETTO:-0400
TZNAME:EDT
DTSTART:20250309T070000
END:DAYLIGHT
BEGIN:STANDARD
TZOFFSETFROM:-0400
TZOFFSETTO:-0500
TZNAME:EST
DTSTART:20251102T060000
END:STANDARD
BEGIN:DAYLIGHT
TZOFFSETFROM:-0500
TZOFFSETTO:-0400
TZNAME:EDT
DTSTART:20260308T070000
END:DAYLIGHT
BEGIN:STANDARD
TZOFFSETFROM:-0400
TZOFFSETTO:-0500
TZNAME:EST
DTSTART:20261101T060000
END:STANDARD
BEGIN:DAYLIGHT
TZOFFSETFROM:-0500
TZOFFSETTO:-0400
TZNAME:EDT
DTSTART:20270314T070000
END:DAYLIGHT
BEGIN:STANDARD
TZOFFSETFROM:-0400
TZOFFSETTO:-0500
TZNAME:EST
DTSTART:20271107T060000
END:STANDARD
END:VTIMEZONE
BEGIN:VEVENT
DTSTART;TZID=America/New_York:20260806T193000
DTEND;TZID=America/New_York:20260806T220000
DTSTAMP:20260423T190654
CREATED:20250821T133143Z
LAST-MODIFIED:20250821T133143Z
UID:10000510-1786044600-1786053600@cltsings.org
SUMMARY:You Better Sing!
DESCRIPTION:A Karaoke-Themed Singalong Spectacular \nClose out the season with One Voice Chorus in a show where the only rule is: don’t hold back. You Better Sing! is our karaoke-inspired\, high-energy\, belt-it-out celebration of the songs you love and the joy of singing loud and proud together. From guilty pleasures to iconic anthems\, this interactive concert puts the audience in the spotlight\, with moments to sing along and relive your favorite karaoke bangers. Campy? Yes. Cathartic? Definitely. Queer? Always. So warm up those vocal cords\, grab your friends\, and get ready to join the chorus! Whether you’re ready to belt it out or just listen\, there’s a place for you at this show. No pressure\, all joy!
URL:https://cltsings.org/performance/you-better-sing/2026-08-06/
LOCATION:First United Methodist Church\, 501 N Tryon\, Charlotte\, 28202
ATTACH;FMTTYPE=image/jpeg:https://cltsings.org/wp-content/uploads/2025/08/2025_You-Better-Sing_Web-Assets_Web-Banner.jpg
ORGANIZER;CN="One Voice Chorus":MAILTO:info@onevoicechorus.com
END:VEVENT
END:VCALENDAR