BEGIN:VCALENDAR
VERSION:2.0
PRODID:-//CLTSings - ECPv6.15.20//NONSGML v1.0//EN
CALSCALE:GREGORIAN
METHOD:PUBLISH
X-ORIGINAL-URL:https://cltsings.org
X-WR-CALDESC:Events for CLTSings
REFRESH-INTERVAL;VALUE=DURATION:PT1H
X-Robots-Tag:noindex
X-PUBLISHED-TTL:PT1H
BEGIN:VTIMEZONE
TZID:America/New_York
BEGIN:DAYLIGHT
TZOFFSETFROM:-0500
TZOFFSETTO:-0400
TZNAME:EDT
DTSTART:20240310T070000
END:DAYLIGHT
BEGIN:STANDARD
TZOFFSETFROM:-0400
TZOFFSETTO:-0500
TZNAME:EST
DTSTART:20241103T060000
END:STANDARD
BEGIN:DAYLIGHT
TZOFFSETFROM:-0500
TZOFFSETTO:-0400
TZNAME:EDT
DTSTART:20250309T070000
END:DAYLIGHT
BEGIN:STANDARD
TZOFFSETFROM:-0400
TZOFFSETTO:-0500
TZNAME:EST
DTSTART:20251102T060000
END:STANDARD
BEGIN:DAYLIGHT
TZOFFSETFROM:-0500
TZOFFSETTO:-0400
TZNAME:EDT
DTSTART:20260308T070000
END:DAYLIGHT
BEGIN:STANDARD
TZOFFSETFROM:-0400
TZOFFSETTO:-0500
TZNAME:EST
DTSTART:20261101T060000
END:STANDARD
END:VTIMEZONE
BEGIN:VEVENT
DTSTART;TZID=America/New_York:20251213T110000
DTEND;TZID=America/New_York:20251213T120000
DTSTAMP:20260423T190933
CREATED:20251031T204126Z
LAST-MODIFIED:20251031T204126Z
UID:10000869-1765623600-1765627200@cltsings.org
SUMMARY:Holiday Pops Family Show
DESCRIPTION:Celebrate the season with Charlotte’s favorite holiday tradition! Experience the magic of the holidays as the Charlotte Symphony brings beloved carols and festive favorites to life. With sparkling arrangements\, heartwarming melodies\, and special appearances from Santa and friends\, this joyful concert is sure to bring holiday cheer to the whole family! \nChristopher James Lees\, conductor\nWendy Hickman\, vocals\nDaShawn Hickman\, steel guitar/vocals\nLaurelyn Dossett\, guitar/vocals\nJoe Newberry\, banjo/guitar/vocals\nApril Verch\, fiddle/vocals\nCharlotte Master Chorale\nCharlotte Symphony Orchestra
URL:https://cltsings.org/performance/holiday-pops-family-show/
LOCATION:Knight Theater\, 430 S Tryon St\, Charlotte\, United States
CATEGORIES:Choral-Orchestral
ATTACH;FMTTYPE=image/jpeg:https://cltsings.org/wp-content/uploads/2025/10/Holiday-Pops.jpg
ORGANIZER;CN="Charlotte Master Chorale":MAILTO:philip.biedenbender@charlottemasterchorale.org
END:VEVENT
BEGIN:VEVENT
DTSTART;TZID=America/New_York:20251213T130000
DTEND;TZID=America/New_York:20251213T150000
DTSTAMP:20260423T190933
CREATED:20250917T122406Z
LAST-MODIFIED:20250917T122406Z
UID:10000847-1765630800-1765638000@cltsings.org
SUMMARY:The 71st Annual Singing Christmas Tree
DESCRIPTION:Welcome to Carolina Voices’ 71st Annual Singing Christmas Tree—a cherished celebration of holiday entertainment! Join us at the CPCC Dale F. Halton Theater\, where the MainStage Choir\, arranged in a specially designed 32-foot tree\, will fill the air with the sounds of the season. Enjoy an inspiring blend of Christmas music\, spanning sacred and traditional favorites to pop and family classics. Adding to the festive spirit\, Miller Street Dance Academy will return with dazzling performances to make this an unforgettable holiday experience\, and the Carolina Kids’ Voices Tree Choir will be sure to make you smile! Celebrate with us and create new holiday memories—reserve your tickets now! \nPlenty of free parking is available off of E. 4th St. in CPCC Deck 4\, which is the closest parking garage to the theater. Use 1225 E 4th St\, Charlotte\, NC 28204 in your GPS for directions to the parking deck. The deck is located behind the theater. The entrance to Halton Theater/Tate Hall is off of N Kings Dr. There is also a drop off area right in front of the theater\, for those that need direct access.
URL:https://cltsings.org/performance/the-71st-annual-singing-christmas-tree/2025-12-13/1/
LOCATION:Dale F. Halton Theater\, 1206 Elizabeth Ave\, Charlotte\, 28204
CATEGORIES:Choral
ATTACH;FMTTYPE=image/png:https://cltsings.org/wp-content/uploads/2025/09/6874f6aec4ea252a3a531ba0_SCT-2025-Thumbnail-Image-1200-x-724-px.png
ORGANIZER;CN="Carolina Voices":MAILTO:marketing@carolinavoices.org
END:VEVENT
BEGIN:VEVENT
DTSTART;TZID=America/New_York:20251213T140000
DTEND;TZID=America/New_York:20251213T160000
DTSTAMP:20260423T190933
CREATED:20250821T134314Z
LAST-MODIFIED:20250821T134314Z
UID:10000837-1765634400-1765641600@cltsings.org
SUMMARY:Pride & Joy
DESCRIPTION:This season\, One Voice Chorus invites you to a celebration full of sparkle\, spirit\, and unapologetic queer cheer. The first half of Pride & Joy brings the camp—expect holiday classics with a twist\, unexpected treats\, and more glitter than your grandma’s tinsel. Then\, as the lights soften\, we shift into music that holds space for reflection\, remembrance\, and the deeper meaning of the season. From playful to poignant\, this concert honors the wide spectrum of what the holidays mean to our community—joy\, resilience\, chosen family\, and love in all its forms. Join us as we sing in the season and celebrate you—our extended OVC family.
URL:https://cltsings.org/performance/pride-joy/2025-12-13/
LOCATION:First United Methodist Church\, 501 N Tryon\, Charlotte\, 28202
ATTACH;FMTTYPE=image/jpeg:https://cltsings.org/wp-content/uploads/2025/08/2025_Pride-Joy_Web-Assets_Web-Banner.jpg
ORGANIZER;CN="One Voice Chorus":MAILTO:info@onevoicechorus.com
END:VEVENT
BEGIN:VEVENT
DTSTART;TZID=America/New_York:20251213T163000
DTEND;TZID=America/New_York:20251213T183000
DTSTAMP:20260423T190933
CREATED:20250917T122406Z
LAST-MODIFIED:20250917T122406Z
UID:10000848-1765643400-1765650600@cltsings.org
SUMMARY:The 71st Annual Singing Christmas Tree
DESCRIPTION:Welcome to Carolina Voices’ 71st Annual Singing Christmas Tree—a cherished celebration of holiday entertainment! Join us at the CPCC Dale F. Halton Theater\, where the MainStage Choir\, arranged in a specially designed 32-foot tree\, will fill the air with the sounds of the season. Enjoy an inspiring blend of Christmas music\, spanning sacred and traditional favorites to pop and family classics. Adding to the festive spirit\, Miller Street Dance Academy will return with dazzling performances to make this an unforgettable holiday experience\, and the Carolina Kids’ Voices Tree Choir will be sure to make you smile! Celebrate with us and create new holiday memories—reserve your tickets now! \nPlenty of free parking is available off of E. 4th St. in CPCC Deck 4\, which is the closest parking garage to the theater. Use 1225 E 4th St\, Charlotte\, NC 28204 in your GPS for directions to the parking deck. The deck is located behind the theater. The entrance to Halton Theater/Tate Hall is off of N Kings Dr. There is also a drop off area right in front of the theater\, for those that need direct access.
URL:https://cltsings.org/performance/the-71st-annual-singing-christmas-tree/2025-12-13/2/
LOCATION:Dale F. Halton Theater\, 1206 Elizabeth Ave\, Charlotte\, 28204
CATEGORIES:Choral
ATTACH;FMTTYPE=image/png:https://cltsings.org/wp-content/uploads/2025/09/6874f6aec4ea252a3a531ba0_SCT-2025-Thumbnail-Image-1200-x-724-px.png
ORGANIZER;CN="Carolina Voices":MAILTO:marketing@carolinavoices.org
END:VEVENT
BEGIN:VEVENT
DTSTART;TZID=America/New_York:20251213T193000
DTEND;TZID=America/New_York:20251213T213000
DTSTAMP:20260423T190933
CREATED:20251031T203940Z
LAST-MODIFIED:20251031T203940Z
UID:10000867-1765654200-1765661400@cltsings.org
SUMMARY:Holiday Pops: A Carolina Christmas
DESCRIPTION:Come home for the holidays in a merry celebration featuring North Carolina’s rich musical heritage. Festive favorites like “The Twelve Days of Christmas” and “Santa Claus is Coming to Town” alongside traditional songs with sounds of bluegrass and blues will wrap you in the season’s warmth and joy. \nChristopher James Lees\, conductor\nWendy Hickman\, vocals\nDaShawn Hickman\, steel guitar/vocals\nLaurelyn Dossett\, guitar/vocals\nJoe Newberry\, banjo/guitar/vocals\nApril Verch\, fiddle/vocals\nCharlotte Master Chorale\nCharlotte Symphony Orchestra
URL:https://cltsings.org/performance/holiday-pops-a-carolina-christmas/2025-12-13/
LOCATION:Knight Theater\, 430 S Tryon St\, Charlotte\, United States
CATEGORIES:Choral-Orchestral
ATTACH;FMTTYPE=image/jpeg:https://cltsings.org/wp-content/uploads/2025/10/Holiday-Pops.jpg
ORGANIZER;CN="Charlotte Master Chorale":MAILTO:philip.biedenbender@charlottemasterchorale.org
END:VEVENT
END:VCALENDAR