BEGIN:VCALENDAR
VERSION:2.0
PRODID:-//CLTSings - ECPv6.15.20//NONSGML v1.0//EN
CALSCALE:GREGORIAN
METHOD:PUBLISH
X-ORIGINAL-URL:https://cltsings.org
X-WR-CALDESC:Events for CLTSings
REFRESH-INTERVAL;VALUE=DURATION:PT1H
X-Robots-Tag:noindex
X-PUBLISHED-TTL:PT1H
BEGIN:VTIMEZONE
TZID:America/New_York
BEGIN:DAYLIGHT
TZOFFSETFROM:-0500
TZOFFSETTO:-0400
TZNAME:EDT
DTSTART:20240310T070000
END:DAYLIGHT
BEGIN:STANDARD
TZOFFSETFROM:-0400
TZOFFSETTO:-0500
TZNAME:EST
DTSTART:20241103T060000
END:STANDARD
BEGIN:DAYLIGHT
TZOFFSETFROM:-0500
TZOFFSETTO:-0400
TZNAME:EDT
DTSTART:20250309T070000
END:DAYLIGHT
BEGIN:STANDARD
TZOFFSETFROM:-0400
TZOFFSETTO:-0500
TZNAME:EST
DTSTART:20251102T060000
END:STANDARD
BEGIN:DAYLIGHT
TZOFFSETFROM:-0500
TZOFFSETTO:-0400
TZNAME:EDT
DTSTART:20260308T070000
END:DAYLIGHT
BEGIN:STANDARD
TZOFFSETFROM:-0400
TZOFFSETTO:-0500
TZNAME:EST
DTSTART:20261101T060000
END:STANDARD
END:VTIMEZONE
BEGIN:VEVENT
DTSTART;TZID=America/New_York:20251212T193000
DTEND;TZID=America/New_York:20251212T213000
DTSTAMP:20260423T190933
CREATED:20250821T134314Z
LAST-MODIFIED:20250821T134314Z
UID:10000836-1765567800-1765575000@cltsings.org
SUMMARY:Pride & Joy
DESCRIPTION:This season\, One Voice Chorus invites you to a celebration full of sparkle\, spirit\, and unapologetic queer cheer. The first half of Pride & Joy brings the camp—expect holiday classics with a twist\, unexpected treats\, and more glitter than your grandma’s tinsel. Then\, as the lights soften\, we shift into music that holds space for reflection\, remembrance\, and the deeper meaning of the season. From playful to poignant\, this concert honors the wide spectrum of what the holidays mean to our community—joy\, resilience\, chosen family\, and love in all its forms. Join us as we sing in the season and celebrate you—our extended OVC family.
URL:https://cltsings.org/performance/pride-joy/2025-12-12/
LOCATION:First United Methodist Church\, 501 N Tryon\, Charlotte\, 28202
ATTACH;FMTTYPE=image/jpeg:https://cltsings.org/wp-content/uploads/2025/08/2025_Pride-Joy_Web-Assets_Web-Banner.jpg
ORGANIZER;CN="One Voice Chorus":MAILTO:info@onevoicechorus.com
END:VEVENT
BEGIN:VEVENT
DTSTART;TZID=America/New_York:20251212T193000
DTEND;TZID=America/New_York:20251212T213000
DTSTAMP:20260423T190933
CREATED:20251031T203940Z
LAST-MODIFIED:20251031T203940Z
UID:10000866-1765567800-1765575000@cltsings.org
SUMMARY:Holiday Pops: A Carolina Christmas
DESCRIPTION:Come home for the holidays in a merry celebration featuring North Carolina’s rich musical heritage. Festive favorites like “The Twelve Days of Christmas” and “Santa Claus is Coming to Town” alongside traditional songs with sounds of bluegrass and blues will wrap you in the season’s warmth and joy. \nChristopher James Lees\, conductor\nWendy Hickman\, vocals\nDaShawn Hickman\, steel guitar/vocals\nLaurelyn Dossett\, guitar/vocals\nJoe Newberry\, banjo/guitar/vocals\nApril Verch\, fiddle/vocals\nCharlotte Master Chorale\nCharlotte Symphony Orchestra
URL:https://cltsings.org/performance/holiday-pops-a-carolina-christmas/2025-12-12/
LOCATION:Knight Theater\, 430 S Tryon St\, Charlotte\, United States
CATEGORIES:Choral-Orchestral
ATTACH;FMTTYPE=image/jpeg:https://cltsings.org/wp-content/uploads/2025/10/Holiday-Pops.jpg
ORGANIZER;CN="Charlotte Master Chorale":MAILTO:philip.biedenbender@charlottemasterchorale.org
END:VEVENT
END:VCALENDAR