BEGIN:VCALENDAR
VERSION:2.0
PRODID:-//CLTSings - ECPv6.15.20//NONSGML v1.0//EN
CALSCALE:GREGORIAN
METHOD:PUBLISH
X-ORIGINAL-URL:https://cltsings.org
X-WR-CALDESC:Events for CLTSings
REFRESH-INTERVAL;VALUE=DURATION:PT1H
X-Robots-Tag:noindex
X-PUBLISHED-TTL:PT1H
BEGIN:VTIMEZONE
TZID:America/New_York
BEGIN:DAYLIGHT
TZOFFSETFROM:-0500
TZOFFSETTO:-0400
TZNAME:EDT
DTSTART:20240310T070000
END:DAYLIGHT
BEGIN:STANDARD
TZOFFSETFROM:-0400
TZOFFSETTO:-0500
TZNAME:EST
DTSTART:20241103T060000
END:STANDARD
BEGIN:DAYLIGHT
TZOFFSETFROM:-0500
TZOFFSETTO:-0400
TZNAME:EDT
DTSTART:20250309T070000
END:DAYLIGHT
BEGIN:STANDARD
TZOFFSETFROM:-0400
TZOFFSETTO:-0500
TZNAME:EST
DTSTART:20251102T060000
END:STANDARD
BEGIN:DAYLIGHT
TZOFFSETFROM:-0500
TZOFFSETTO:-0400
TZNAME:EDT
DTSTART:20260308T070000
END:DAYLIGHT
BEGIN:STANDARD
TZOFFSETFROM:-0400
TZOFFSETTO:-0500
TZNAME:EST
DTSTART:20261101T060000
END:STANDARD
END:VTIMEZONE
BEGIN:VEVENT
DTSTART;TZID=America/New_York:20251115T193000
DTEND;TZID=America/New_York:20251115T213000
DTSTAMP:20260423T202656
CREATED:20251031T203608Z
LAST-MODIFIED:20251031T204652Z
UID:10000862-1763235000-1763242200@cltsings.org
SUMMARY:Duruflé "Requiem"
DESCRIPTION:Duruflé’s Requiem intertwines medieval melodies and Gregorian chant with lush\, impressionistic harmonies\, igniting an evening of passion and beauty with a deeply spiritual and introspective atmosphere. Respighi’s colorful tone poems transport audiences into the heart of the Eternal City\, painting a vivid picture of the lush landscapes and sparkling fountains that inspired the composer’s sense of belonging in his newly adopted home. \nDURUFLÉ Requiem\nRESPIGHI Fountains of Rome\nRESPIGHI Pines of Rome \nFrancesco Lecce-Chong\, conductor\nMegan Samarin\, mezzo-soprano\nEleomar Cuello\, baritone\nCharlotte Master Chorale\nCharlotte Symphony Orchestra
URL:https://cltsings.org/performance/durufle-requiem/2025-11-15/
LOCATION:Belk Theater\, 130 N Tryon St.\, Charlotte\, United States
CATEGORIES:Choral-Orchestral
ATTACH;FMTTYPE=image/jpeg:https://cltsings.org/wp-content/uploads/2025/10/RespighiDurufle-800x599-1.jpg
ORGANIZER;CN="Charlotte Master Chorale":MAILTO:philip.biedenbender@charlottemasterchorale.org
END:VEVENT
END:VCALENDAR