BEGIN:VCALENDAR
VERSION:2.0
PRODID:-//CLTSings - ECPv6.15.20//NONSGML v1.0//EN
CALSCALE:GREGORIAN
METHOD:PUBLISH
X-ORIGINAL-URL:https://cltsings.org
X-WR-CALDESC:Events for CLTSings
REFRESH-INTERVAL;VALUE=DURATION:PT1H
X-Robots-Tag:noindex
X-PUBLISHED-TTL:PT1H
BEGIN:VTIMEZONE
TZID:America/New_York
BEGIN:DAYLIGHT
TZOFFSETFROM:-0500
TZOFFSETTO:-0400
TZNAME:EDT
DTSTART:20240310T070000
END:DAYLIGHT
BEGIN:STANDARD
TZOFFSETFROM:-0400
TZOFFSETTO:-0500
TZNAME:EST
DTSTART:20241103T060000
END:STANDARD
BEGIN:DAYLIGHT
TZOFFSETFROM:-0500
TZOFFSETTO:-0400
TZNAME:EDT
DTSTART:20250309T070000
END:DAYLIGHT
BEGIN:STANDARD
TZOFFSETFROM:-0400
TZOFFSETTO:-0500
TZNAME:EST
DTSTART:20251102T060000
END:STANDARD
BEGIN:DAYLIGHT
TZOFFSETFROM:-0500
TZOFFSETTO:-0400
TZNAME:EDT
DTSTART:20260308T070000
END:DAYLIGHT
BEGIN:STANDARD
TZOFFSETFROM:-0400
TZOFFSETTO:-0500
TZNAME:EST
DTSTART:20261101T060000
END:STANDARD
END:VTIMEZONE
BEGIN:VEVENT
DTSTART;TZID=America/New_York:20250927T193000
DTEND;TZID=America/New_York:20250927T210000
DTSTAMP:20260423T233301
CREATED:20250611T151059Z
LAST-MODIFIED:20250917T121414Z
UID:10000083-1759001400-1759006800@cltsings.org
SUMMARY:Bach "Magnificat" & Lauridsen "Lux Aeterna"
DESCRIPTION:The Charlotte Master Chorale opens its 75th Anniversary Season with the powerful pairing of Bach’s “Magnificat” and Lauridsen’s “Lux Aeterna\,” performed in partnership with the Charlotte Symphony Orchestra. This program honors our legacy of musical excellence and our commitment to both timeless masterworks and vibrant contemporary voices. \nThis special performance is presented in partnership with the Charlotte Symphony and is made possible\, in part\, with support from the Sally Ann and Joe Hall Fund of the Charlotte Symphony’s Endowment. \nCharlotte Master Chorale Main Chorus\nCharlotte Symphony Orchestra\nKenney Potter\, conductor \nFree parking is available in First UMC’s parking garage located at 163 W. Ninth Street between Tryon and Church Streets.
URL:https://cltsings.org/performance/bach-magnificat-lauridsen-lux-aeterna/
LOCATION:First United Methodist Church\, 501 N Tryon\, Charlotte\, 28202
ATTACH;FMTTYPE=image/jpeg:https://cltsings.org/wp-content/uploads/2025/06/2Q7A1794-2-scaled.jpg
ORGANIZER;CN="Charlotte Master Chorale":MAILTO:philip.biedenbender@charlottemasterchorale.org
END:VEVENT
END:VCALENDAR