BEGIN:VCALENDAR
VERSION:2.0
PRODID:-//CLTSings - ECPv6.15.20//NONSGML v1.0//EN
CALSCALE:GREGORIAN
METHOD:PUBLISH
X-WR-CALNAME:CLTSings
X-ORIGINAL-URL:https://cltsings.org
X-WR-CALDESC:Events for CLTSings
REFRESH-INTERVAL;VALUE=DURATION:PT1H
X-Robots-Tag:noindex
X-PUBLISHED-TTL:PT1H
BEGIN:VTIMEZONE
TZID:America/New_York
BEGIN:DAYLIGHT
TZOFFSETFROM:-0500
TZOFFSETTO:-0400
TZNAME:EDT
DTSTART:20240310T070000
END:DAYLIGHT
BEGIN:STANDARD
TZOFFSETFROM:-0400
TZOFFSETTO:-0500
TZNAME:EST
DTSTART:20241103T060000
END:STANDARD
BEGIN:DAYLIGHT
TZOFFSETFROM:-0500
TZOFFSETTO:-0400
TZNAME:EDT
DTSTART:20250309T070000
END:DAYLIGHT
BEGIN:STANDARD
TZOFFSETFROM:-0400
TZOFFSETTO:-0500
TZNAME:EST
DTSTART:20251102T060000
END:STANDARD
BEGIN:DAYLIGHT
TZOFFSETFROM:-0500
TZOFFSETTO:-0400
TZNAME:EDT
DTSTART:20260308T070000
END:DAYLIGHT
BEGIN:STANDARD
TZOFFSETFROM:-0400
TZOFFSETTO:-0500
TZNAME:EST
DTSTART:20261101T060000
END:STANDARD
END:VTIMEZONE
BEGIN:VEVENT
DTSTART;TZID=America/New_York:20250903T080000
DTEND;TZID=America/New_York:20250903T170000
DTSTAMP:20260423T233228
CREATED:20250917T120849Z
LAST-MODIFIED:20250917T120849Z
UID:10000843-1756886400-1756918800@cltsings.org
SUMMARY:QCG:Dinner and Mini-Concert
DESCRIPTION:Come out for dinner\, fellowship\, and a mini acappella concert featuring Queen City Groove! \nSpaghetti dinner begins at 5:30pm. QCG will perform at 6:30pm. \nStallings Community Church \nFree and open to the public
URL:https://cltsings.org/performance/qcgdinner-and-mini-concert/
LOCATION:1115 Stallings Rd\, 1115 Stallings Road\, Matthews\, NC\, 28104\, United States
ATTACH;FMTTYPE=image/jpeg:https://cltsings.org/wp-content/uploads/2025/09/IMG_7550-scaled.jpg
END:VEVENT
END:VCALENDAR