BEGIN:VCALENDAR
VERSION:2.0
PRODID:-//CLTSings - ECPv6.15.20//NONSGML v1.0//EN
CALSCALE:GREGORIAN
METHOD:PUBLISH
X-WR-CALNAME:CLTSings
X-ORIGINAL-URL:https://cltsings.org
X-WR-CALDESC:Events for CLTSings
REFRESH-INTERVAL;VALUE=DURATION:PT1H
X-Robots-Tag:noindex
X-PUBLISHED-TTL:PT1H
BEGIN:VTIMEZONE
TZID:UTC
BEGIN:STANDARD
TZOFFSETFROM:+0000
TZOFFSETTO:+0000
TZNAME:UTC
DTSTART:20230101T000000
END:STANDARD
END:VTIMEZONE
BEGIN:VEVENT
DTSTART;TZID=UTC:20241203T190000
DTEND;TZID=UTC:20241203T203000
DTSTAMP:20260424T172726
CREATED:20240821T203240Z
LAST-MODIFIED:20240821T204149Z
UID:10000003-1733252400-1733257800@cltsings.org
SUMMARY:WDAV Lessons and Carols
DESCRIPTION:Celebrate the holiday season with the Charlotte Master Chorale Chamber Singers as they lead WDAV’s annual program of carols and holiday music\, illuminated by scripture readings. Tune in at home or join us in person as we welcome the season in song. This event is FREE and open to the public.
URL:https://cltsings.org/performance/wdav-lessons-and-carols/
LOCATION:St. John’s Baptist Church\, 300 Hawthorne Ln\, Charlotte\, United States
ATTACH;FMTTYPE=image/jpeg:https://cltsings.org/wp-content/uploads/2024/08/Christmas-scaled-1.jpg
ORGANIZER;CN="Charlotte Master Chorale":MAILTO:philip.biedenbender@charlottemasterchorale.org
END:VEVENT
END:VCALENDAR