BEGIN:VCALENDAR
VERSION:2.0
PRODID:-//CLTSings - ECPv6.15.20//NONSGML v1.0//EN
CALSCALE:GREGORIAN
METHOD:PUBLISH
X-ORIGINAL-URL:https://cltsings.org
X-WR-CALDESC:Events for CLTSings
REFRESH-INTERVAL;VALUE=DURATION:PT1H
X-Robots-Tag:noindex
X-PUBLISHED-TTL:PT1H
BEGIN:VTIMEZONE
TZID:America/New_York
BEGIN:DAYLIGHT
TZOFFSETFROM:-0500
TZOFFSETTO:-0400
TZNAME:EDT
DTSTART:20230312T070000
END:DAYLIGHT
BEGIN:STANDARD
TZOFFSETFROM:-0400
TZOFFSETTO:-0500
TZNAME:EST
DTSTART:20231105T060000
END:STANDARD
BEGIN:DAYLIGHT
TZOFFSETFROM:-0500
TZOFFSETTO:-0400
TZNAME:EDT
DTSTART:20240310T070000
END:DAYLIGHT
BEGIN:STANDARD
TZOFFSETFROM:-0400
TZOFFSETTO:-0500
TZNAME:EST
DTSTART:20241103T060000
END:STANDARD
BEGIN:DAYLIGHT
TZOFFSETFROM:-0500
TZOFFSETTO:-0400
TZNAME:EDT
DTSTART:20250309T070000
END:DAYLIGHT
BEGIN:STANDARD
TZOFFSETFROM:-0400
TZOFFSETTO:-0500
TZNAME:EST
DTSTART:20251102T060000
END:STANDARD
END:VTIMEZONE
BEGIN:VEVENT
DTSTART;TZID=America/New_York:20241124T153000
DTEND;TZID=America/New_York:20241124T170000
DTSTAMP:20260424T190807
CREATED:20241118T182658Z
LAST-MODIFIED:20241118T182658Z
UID:10000054-1732462200-1732467600@cltsings.org
SUMMARY:Charlotte Chamber Choir: Music from the British Isles
DESCRIPTION:Join the Charlotte Chamber Choir for their fall concert; “Music from the British Isles”. Featuring the timeless classics of Holst\, Stanford\, and Wood\, as well as newer voices like James MacMillan and Paul Mealor. Free and open to the public; donations accepted.
URL:https://cltsings.org/performance/charlotte-chamber-choir-music-from-the-british-isles/
LOCATION:St. Martin’s Episcopal Church\, 1510 E 7th St\, Charlotte\, NC\, 28204\, United States
ATTACH;FMTTYPE=image/jpeg:https://cltsings.org/wp-content/uploads/2024/11/5Div-IMG04354A1-Copy.jpg
ORGANIZER;CN="Charlotte Chamber Choir":MAILTO:charlottechamberchoir@gmail.com
END:VEVENT
BEGIN:VEVENT
DTSTART;TZID=America/New_York:20241124T160000
DTEND;TZID=America/New_York:20241124T170000
DTSTAMP:20260424T190807
CREATED:20240926T195708Z
LAST-MODIFIED:20241004T175952Z
UID:10000032-1732464000-1732467600@cltsings.org
SUMMARY:Harvest of Harmony: A Choral Celebration of Gratitude and Giving
DESCRIPTION:Join Carolina Voices for a concert of exquisite choral music that reflects the themes of gratitude\, generosity\, and community. Music selections by composers Elaine Hagenberg\, Rollo Dilworth\, David Brunner and more will celebrate the power of music to uplift and inspire. Our audience will be able to join us to support a local organization that embodies the spirit of giving back to our community.
URL:https://cltsings.org/performance/harvest-of-harmony/
LOCATION:St. John’s Baptist Church\, 300 Hawthorne Ln\, Charlotte\, United States
ATTACH;FMTTYPE=image/png:https://cltsings.org/wp-content/uploads/2024/09/Harvest-of-Harmony-CLTSings-Image-1200-x-800-px.png
ORGANIZER;CN="Carolina Voices":MAILTO:marketing@carolinavoices.org
END:VEVENT
END:VCALENDAR