BEGIN:VCALENDAR
VERSION:2.0
PRODID:-//CLTSings - ECPv6.15.20//NONSGML v1.0//EN
CALSCALE:GREGORIAN
METHOD:PUBLISH
X-WR-CALNAME:CLTSings
X-ORIGINAL-URL:https://cltsings.org
X-WR-CALDESC:Events for CLTSings
REFRESH-INTERVAL;VALUE=DURATION:PT1H
X-Robots-Tag:noindex
X-PUBLISHED-TTL:PT1H
BEGIN:VTIMEZONE
TZID:America/New_York
BEGIN:DAYLIGHT
TZOFFSETFROM:-0500
TZOFFSETTO:-0400
TZNAME:EDT
DTSTART:20230312T070000
END:DAYLIGHT
BEGIN:STANDARD
TZOFFSETFROM:-0400
TZOFFSETTO:-0500
TZNAME:EST
DTSTART:20231105T060000
END:STANDARD
BEGIN:DAYLIGHT
TZOFFSETFROM:-0500
TZOFFSETTO:-0400
TZNAME:EDT
DTSTART:20240310T070000
END:DAYLIGHT
BEGIN:STANDARD
TZOFFSETFROM:-0400
TZOFFSETTO:-0500
TZNAME:EST
DTSTART:20241103T060000
END:STANDARD
BEGIN:DAYLIGHT
TZOFFSETFROM:-0500
TZOFFSETTO:-0400
TZNAME:EDT
DTSTART:20250309T070000
END:DAYLIGHT
BEGIN:STANDARD
TZOFFSETFROM:-0400
TZOFFSETTO:-0500
TZNAME:EST
DTSTART:20251102T060000
END:STANDARD
BEGIN:DAYLIGHT
TZOFFSETFROM:-0500
TZOFFSETTO:-0400
TZNAME:EDT
DTSTART:20260308T070000
END:DAYLIGHT
BEGIN:STANDARD
TZOFFSETFROM:-0400
TZOFFSETTO:-0500
TZNAME:EST
DTSTART:20261101T060000
END:STANDARD
END:VTIMEZONE
BEGIN:VEVENT
DTSTART;TZID=America/New_York:20250912T193000
DTEND;TZID=America/New_York:20250912T210000
DTSTAMP:20260423T180608
CREATED:20250903T125827Z
LAST-MODIFIED:20250903T125827Z
UID:10000838-1757705400-1757710800@cltsings.org
SUMMARY:Gay Men's Chorus of Charlotte Presents: ICONS
DESCRIPTION:Celebrate Pride with power chords\, powerhouse vocals\, and pure joy! The Gay Men’s Chorus of Charlotte presents ICONS: Pride Goes Pop—a bold\, high-energy concert of anthems that have defined LGBTQ+ visibility and resilience over the past two decades. \nThis electrifying program features stunning choral takes on modern Pride favorites like Brave (Sara Bareilles)\, Dancing on My Own (Calum Scott)\, Follow Your Arrow (Kacey Musgraves)\, Born This Way (Lady Gaga)\, and a heart-lifting mashup of True Colors (Cyndi Lauper) and Roar (Katy Perry). You’ll also hear reimagined ballads and bangers from icons like Cher\, George Michael\, and ABBA—all delivered with the rich\, powerful harmonies only GMCC can bring. \nThese aren’t just songs—they’re declarations. Of love. Of identity. Of being seen and heard. Whether you’re here to sing along\, sway with friends\, or soak in the sound of queer joy\, ICONS invites you to take your place in the chorus. \nGet your tickets\, bring your voice\, and let’s celebrate what makes our community unforgettable—one pop anthem at a time. \nPLEASE NOTE THE NEW VENUE: \nArts+ \n2304 The Plaza\, Charlotte NC \nTWO FABULOUS SHOWS! \nSeptember 12\, 2025 7:30pm \nSeptember 13\, 2025 7:30pm \nDO NOT MISS THIS SPECTACULAR EVENT!
URL:https://cltsings.org/performance/gay-mens-chorus-of-charlotte-presents-icons/2025-09-12/
LOCATION:Arts+ Community Campus\, 2304 The Plaza\, Charlotte\, 28205
CATEGORIES:Choral
ATTACH;FMTTYPE=image/png:https://cltsings.org/wp-content/uploads/2025/09/1.png
ORGANIZER;CN="Gay Men's Chorus of Charlotte":MAILTO:tlogan@gmccharlotte.org
END:VEVENT
BEGIN:VEVENT
DTSTART;TZID=America/New_York:20250815T193000
DTEND;TZID=America/New_York:20250815T210000
DTSTAMP:20260423T180608
CREATED:20250705T143558Z
LAST-MODIFIED:20250705T143558Z
UID:10000095-1755286200-1755291600@cltsings.org
SUMMARY:Gay Men's Chorus of Charlotte Presents: ICONS: Pride Goes Pop!
DESCRIPTION:Celebrate Pride with power chords\, powerhouse vocals\, and pure joy! The Gay Men’s Chorus of Charlotte presents ICONS: Pride Goes Pop—a bold\, high-energy concert of anthems that have defined LGBTQ+ visibility and resilience over the past two decades. \nThis electrifying program features stunning choral takes on modern Pride favorites like Brave (Sara Bareilles)\, Dancing on My Own (Calum Scott)\, Follow Your Arrow (Kacey Musgraves)\, Born This Way (Lady Gaga)\, and a heart-lifting mashup of True Colors (Cyndi Lauper) and Roar (Katy Perry). You’ll also hear reimagined ballads and bangers from icons like Cher\, George Michael\, and ABBA—all delivered with the rich\, powerful harmonies only GMCC can bring. \nThese aren’t just songs—they’re declarations. Of love. Of identity. Of being seen and heard. Whether you’re here to sing along\, sway with friends\, or soak in the sound of queer joy\, ICONS invites you to take your place in the chorus. \nGet your tickets\, bring your voice\, and let’s celebrate what makes our community unforgettable—one pop anthem at a time. \nPLEASE NOTE THE VENUE: \nFirst United Methodist Church \n501 N Tryon Street\, Charlotte NC \nAugust 15\, 2025\, 7:30pm ONE SHOW ONLY! \nDO NOT MISS THIS AMAZING EVENT!
URL:https://cltsings.org/performance/gay-mens-chorus-of-charlotte-presents-icons-pride-goes-pop/
LOCATION:First United Methodist Church\, 501 N Tryon\, Charlotte\, 28202
CATEGORIES:Choral
ATTACH;FMTTYPE=image/png:https://cltsings.org/wp-content/uploads/2025/06/S20-2025-08-15-GMCC-Icons-Show-Logo-Full-Text-940x788-1.png
ORGANIZER;CN="Gay Men's Chorus of Charlotte":MAILTO:tlogan@gmccharlotte.org
END:VEVENT
BEGIN:VEVENT
DTSTART;TZID=America/New_York:20250614T193000
DTEND;TZID=America/New_York:20250614T210000
DTSTAMP:20260423T180608
CREATED:20250516T144514Z
LAST-MODIFIED:20250611T142530Z
UID:10000080-1749929400-1749934800@cltsings.org
SUMMARY:Women's Chorus of Charlotte Presents: CIRCUS
DESCRIPTION:Step right up! WCC presents Circus—a thrilling\, music-filled celebration of all things big top (minus the elephants). Join us for a dazzling evening featuring acrobats\, fortune tellers\, clowns\, and a commanding ringmaster! The soundtrack includes exclusive a cappella arrangements of Emeli Sandé’s Circus and Kate Miller-Heidke’s Zero Gravity (from Eurovision 2019)\, a drop-dead gorgeous version of Pure Imagination\, and\, of course\, the showstopping hits from The Greatest Showman. It’s fun. It’s fearless. It’s the most musical circus in town.
URL:https://cltsings.org/performance/womens-chorus-of-charlotte-presents-circus/2025-06-14/2/
LOCATION:First United Methodist Church\, 501 N Tryon\, Charlotte\, 28202
CATEGORIES:Choral
ATTACH;FMTTYPE=image/png:https://cltsings.org/wp-content/uploads/2025/05/1.png
ORGANIZER;CN="Women's Chorus of Charlotte":MAILTO:tlogan@gmccharlotte.org
END:VEVENT
BEGIN:VEVENT
DTSTART;TZID=America/New_York:20250614T150000
DTEND;TZID=America/New_York:20250614T163000
DTSTAMP:20260423T180608
CREATED:20250516T144514Z
LAST-MODIFIED:20250611T142530Z
UID:10000079-1749913200-1749918600@cltsings.org
SUMMARY:Women's Chorus of Charlotte Presents: CIRCUS
DESCRIPTION:Step right up! WCC presents Circus—a thrilling\, music-filled celebration of all things big top (minus the elephants). Join us for a dazzling evening featuring acrobats\, fortune tellers\, clowns\, and a commanding ringmaster! The soundtrack includes exclusive a cappella arrangements of Emeli Sandé’s Circus and Kate Miller-Heidke’s Zero Gravity (from Eurovision 2019)\, a drop-dead gorgeous version of Pure Imagination\, and\, of course\, the showstopping hits from The Greatest Showman. It’s fun. It’s fearless. It’s the most musical circus in town.
URL:https://cltsings.org/performance/womens-chorus-of-charlotte-presents-circus/2025-06-14/1/
LOCATION:First United Methodist Church\, 501 N Tryon\, Charlotte\, 28202
CATEGORIES:Choral
ATTACH;FMTTYPE=image/png:https://cltsings.org/wp-content/uploads/2025/05/1.png
ORGANIZER;CN="Women's Chorus of Charlotte":MAILTO:tlogan@gmccharlotte.org
END:VEVENT
BEGIN:VEVENT
DTSTART;TZID=America/New_York:20250613T193000
DTEND;TZID=America/New_York:20250613T210000
DTSTAMP:20260423T180608
CREATED:20250516T144514Z
LAST-MODIFIED:20250611T142530Z
UID:10000078-1749843000-1749848400@cltsings.org
SUMMARY:Women's Chorus of Charlotte Presents: CIRCUS
DESCRIPTION:Step right up! WCC presents Circus—a thrilling\, music-filled celebration of all things big top (minus the elephants). Join us for a dazzling evening featuring acrobats\, fortune tellers\, clowns\, and a commanding ringmaster! The soundtrack includes exclusive a cappella arrangements of Emeli Sandé’s Circus and Kate Miller-Heidke’s Zero Gravity (from Eurovision 2019)\, a drop-dead gorgeous version of Pure Imagination\, and\, of course\, the showstopping hits from The Greatest Showman. It’s fun. It’s fearless. It’s the most musical circus in town.
URL:https://cltsings.org/performance/womens-chorus-of-charlotte-presents-circus/2025-06-13/
LOCATION:First United Methodist Church\, 501 N Tryon\, Charlotte\, 28202
CATEGORIES:Choral
ATTACH;FMTTYPE=image/png:https://cltsings.org/wp-content/uploads/2025/05/1.png
ORGANIZER;CN="Women's Chorus of Charlotte":MAILTO:tlogan@gmccharlotte.org
END:VEVENT
BEGIN:VEVENT
DTSTART;TZID=America/New_York:20250412T193000
DTEND;TZID=America/New_York:20250412T210000
DTSTAMP:20260423T180608
CREATED:20250328T135950Z
LAST-MODIFIED:20250328T135950Z
UID:10000069-1744486200-1744491600@cltsings.org
SUMMARY:Queen City Performing Arts Presents: THE STARS ARE OUT!
DESCRIPTION:Step into an evening of defiant celebration with THE STARS ARE OUT! Join the dazzling voices of 7th Son\, Vox Dominae\, and Spite & Malice as they honor the trailblazing spirit of LGBTQ+ songwriters\, lyricists\, and performers who have forever reshaped modern American pop and Broadway music. \nThis is more than a concert—it’s a radiant stand against the forces that seek to erase our history and our voices. Featuring the inspiring works of icons like Tracy Chapman\, Cole Porter\, Jacob Collier\, Craig Hella Johnson\, Wrabel\, Benj Pasek\, Toderick Hall\, Brendon Urie\, Miley Cyrus\, and Janelle Monáe\, the program lights up the night with melodies of resilience\, love\, and unapologetic self-expression. \nCome be part of a warm\, inviting celebration where every note reaffirms our shared heritage and our unyielding commitment to a world where LGBTQ+ voices shine brighter than ever. The stars are out—let’s make sure they stay that way. \nPLEASE NOTE THE VENUE: \nThe Long Room \n1111 Central Avenue\, Charlotte NC \nApril 11th 7:30pm \nApril 12th 7:30pm \nDO NOT MISS THIS FABULOUS EVENT!
URL:https://cltsings.org/performance/queen-city-performing-arts-presents-the-stars-are-out/2025-04-12/
LOCATION:The Long Room\, 1111 Central Ave\, Suite 230\, Charlotte\, 28204
CATEGORIES:Choral
ATTACH;FMTTYPE=image/png:https://cltsings.org/wp-content/uploads/2025/03/1.png
ORGANIZER;CN="Gay Men's Chorus of Charlotte":MAILTO:tlogan@gmccharlotte.org
END:VEVENT
BEGIN:VEVENT
DTSTART;TZID=America/New_York:20250411T193000
DTEND;TZID=America/New_York:20250411T210000
DTSTAMP:20260423T180608
CREATED:20250328T135950Z
LAST-MODIFIED:20250328T135950Z
UID:10000068-1744399800-1744405200@cltsings.org
SUMMARY:Queen City Performing Arts Presents: THE STARS ARE OUT!
DESCRIPTION:Step into an evening of defiant celebration with THE STARS ARE OUT! Join the dazzling voices of 7th Son\, Vox Dominae\, and Spite & Malice as they honor the trailblazing spirit of LGBTQ+ songwriters\, lyricists\, and performers who have forever reshaped modern American pop and Broadway music. \nThis is more than a concert—it’s a radiant stand against the forces that seek to erase our history and our voices. Featuring the inspiring works of icons like Tracy Chapman\, Cole Porter\, Jacob Collier\, Craig Hella Johnson\, Wrabel\, Benj Pasek\, Toderick Hall\, Brendon Urie\, Miley Cyrus\, and Janelle Monáe\, the program lights up the night with melodies of resilience\, love\, and unapologetic self-expression. \nCome be part of a warm\, inviting celebration where every note reaffirms our shared heritage and our unyielding commitment to a world where LGBTQ+ voices shine brighter than ever. The stars are out—let’s make sure they stay that way. \nPLEASE NOTE THE VENUE: \nThe Long Room \n1111 Central Avenue\, Charlotte NC \nApril 11th 7:30pm \nApril 12th 7:30pm \nDO NOT MISS THIS FABULOUS EVENT!
URL:https://cltsings.org/performance/queen-city-performing-arts-presents-the-stars-are-out/2025-04-11/
LOCATION:The Long Room\, 1111 Central Ave\, Suite 230\, Charlotte\, 28204
CATEGORIES:Choral
ATTACH;FMTTYPE=image/png:https://cltsings.org/wp-content/uploads/2025/03/1.png
ORGANIZER;CN="Gay Men's Chorus of Charlotte":MAILTO:tlogan@gmccharlotte.org
END:VEVENT
BEGIN:VEVENT
DTSTART;TZID=America/New_York:20250329T193000
DTEND;TZID=America/New_York:20250329T210000
DTSTAMP:20260423T180608
CREATED:20250205T213223Z
LAST-MODIFIED:20250205T213506Z
UID:10000057-1743276600-1743282000@cltsings.org
SUMMARY:Sing for the Cure!
DESCRIPTION:Join us for a powerful and unforgettable performance of Sing for the Cure\, a 60-minute\, 11-song choral masterpiece featuring a full orchestra and a chorus of over 200 voices. Based on true stories of breast cancer survivors\, Sing for the Cure captures the resilience\, hope\, and strength of those who have faced this life-altering challenge. With stirring harmonies from the large chorus and the brilliance of orchestral accompaniment\, each piece brings to life the courageous journeys of survivors\, creating a moving and emotional experience for all. \nAcclaimed singer-songwriter and Tony-nominated performer Ann Hampton Callaway\, along with Maria Howell\, an internationally recognized vocalist and actress\, will lend their extraordinary talents to this performance.This is an opportunity for our community to unite\, celebrate life\, and honor those touched by breast cancer. Don’t miss this incredible\, life-affirming musical event featuring these outstanding guest artists.
URL:https://cltsings.org/performance/sing-for-the-cure/
LOCATION:Dale F. Halton Theater\, 1206 Elizabeth Ave\, Charlotte\, 28204
CATEGORIES:Choral
ATTACH;FMTTYPE=image/png:https://cltsings.org/wp-content/uploads/2025/02/SFTC-Facebook-Post-Facebook-Cover.png
ORGANIZER;CN="Gay Men's Chorus of Charlotte":MAILTO:tlogan@gmccharlotte.org
END:VEVENT
BEGIN:VEVENT
DTSTART;TZID=America/New_York:20250302T160000
DTEND;TZID=America/New_York:20250302T173000
DTSTAMP:20260423T180608
CREATED:20250210T221206Z
LAST-MODIFIED:20250210T221312Z
UID:10000058-1740931200-1740936600@cltsings.org
SUMMARY:QCPA Presents: Spotlight! A Chamber Music Showcase
DESCRIPTION:Join us for Spotlight\, a special concert featuring the extraordinary instrumentalists frequently seen alongside the Gay Men’s Chorus of Charlotte and Women’s Chorus of Charlotte. This intimate chamber music performance takes center stage for one performance only on Sunday\, March 2\, 2025\, at 4:00 PM at St. Martin’s Episcopal Church (1510 E 7th St\, Charlotte). \nAudiences will be treated to a rare opportunity to hear excerpts from two stunning masterworks: Mendelssohn’s Piano Trio No. 1\, Op. 49 and Chausson’s Concerto for Piano\, Violin\, and String Quartet\, Op. 21 — rich\, evocative pieces that showcase the beauty and power of collaborative musicianship. \nFeaturing a stellar lineup of musicians: \n– Dr. Claudio Olivera – GMCC/WCC Principal Accompanist (piano)\n– Tatiana Karpova\, Lenora Leggatt\, Cynthia Burton – Violin\n– Jenny Topilow – Viola\n– Brian Arreola – Cello \nDon’t miss this unique and exquisite musical experience. Whether you’re a longtime chamber music lover or discovering these pieces for the first time\, Spotlight promises an afternoon of artistry\, passion\, and unforgettable music. \nSave the Date—You Won’t Want to Miss It!
URL:https://cltsings.org/performance/qcpa-presents-spotlight/
LOCATION:St Martin’s Episcopal Church\, 1510 E 7th Street\, Charlotte\, 28205
ATTACH;FMTTYPE=image/png:https://cltsings.org/wp-content/uploads/2025/02/2025-03-02-QCPA-Spotlight-FB-ad-940-x-788-1.png
ORGANIZER;CN="Gay Men's Chorus of Charlotte":MAILTO:tlogan@gmccharlotte.org
END:VEVENT
BEGIN:VEVENT
DTSTART;TZID=America/New_York:20241207T193000
DTEND;TZID=America/New_York:20241207T210000
DTSTAMP:20260423T180608
CREATED:20241108T142241Z
LAST-MODIFIED:20241108T152605Z
UID:10000049-1733599800-1733605200@cltsings.org
SUMMARY:Gay Men's Chorus of Charlotte Presents: JOY!
DESCRIPTION:Get ready for Joy!—the Gay Men’s Chorus of Charlotte’s beloved holiday extravaganza! Join us for a festive celebration filled with stunning harmonies\, classic carols\, and plenty of laughs to kick off the season. This year’s show sparkles with highlights like Dan Forrest’s spirited\, Irish-inspired Joy to the World\, Elaine Hagenberg’s hauntingly beautiful O Come\, Emmanuel\, and the outrageously fun SparkleJollyTwinkleJingly. Come ready to live\, laugh\, and love through the holiday season in true GMCC style!
URL:https://cltsings.org/performance/gay-mens-chorus-of-charlotte-presents-joy/2024-12-07/2/
LOCATION:Galilee Center\, 3601 Central Avenue\, Charlotte\, 28205
ATTACH;FMTTYPE=image/png:https://cltsings.org/wp-content/uploads/2024/11/1-1.png
ORGANIZER;CN="Gay Men's Chorus of Charlotte":MAILTO:tlogan@gmccharlotte.org
END:VEVENT
BEGIN:VEVENT
DTSTART;TZID=America/New_York:20241207T150000
DTEND;TZID=America/New_York:20241207T163000
DTSTAMP:20260423T180608
CREATED:20241108T142241Z
LAST-MODIFIED:20241108T152605Z
UID:10000048-1733583600-1733589000@cltsings.org
SUMMARY:Gay Men's Chorus of Charlotte Presents: JOY!
DESCRIPTION:Get ready for Joy!—the Gay Men’s Chorus of Charlotte’s beloved holiday extravaganza! Join us for a festive celebration filled with stunning harmonies\, classic carols\, and plenty of laughs to kick off the season. This year’s show sparkles with highlights like Dan Forrest’s spirited\, Irish-inspired Joy to the World\, Elaine Hagenberg’s hauntingly beautiful O Come\, Emmanuel\, and the outrageously fun SparkleJollyTwinkleJingly. Come ready to live\, laugh\, and love through the holiday season in true GMCC style!
URL:https://cltsings.org/performance/gay-mens-chorus-of-charlotte-presents-joy/2024-12-07/1/
LOCATION:Galilee Center\, 3601 Central Avenue\, Charlotte\, 28205
ATTACH;FMTTYPE=image/png:https://cltsings.org/wp-content/uploads/2024/11/1-1.png
ORGANIZER;CN="Gay Men's Chorus of Charlotte":MAILTO:tlogan@gmccharlotte.org
END:VEVENT
BEGIN:VEVENT
DTSTART;TZID=America/New_York:20241206T193000
DTEND;TZID=America/New_York:20241206T210000
DTSTAMP:20260423T180608
CREATED:20241108T142241Z
LAST-MODIFIED:20241108T152605Z
UID:10000047-1733513400-1733518800@cltsings.org
SUMMARY:Gay Men's Chorus of Charlotte Presents: JOY!
DESCRIPTION:Get ready for Joy!—the Gay Men’s Chorus of Charlotte’s beloved holiday extravaganza! Join us for a festive celebration filled with stunning harmonies\, classic carols\, and plenty of laughs to kick off the season. This year’s show sparkles with highlights like Dan Forrest’s spirited\, Irish-inspired Joy to the World\, Elaine Hagenberg’s hauntingly beautiful O Come\, Emmanuel\, and the outrageously fun SparkleJollyTwinkleJingly. Come ready to live\, laugh\, and love through the holiday season in true GMCC style!
URL:https://cltsings.org/performance/gay-mens-chorus-of-charlotte-presents-joy/2024-12-06/
LOCATION:Galilee Center\, 3601 Central Avenue\, Charlotte\, 28205
ATTACH;FMTTYPE=image/png:https://cltsings.org/wp-content/uploads/2024/11/1-1.png
ORGANIZER;CN="Gay Men's Chorus of Charlotte":MAILTO:tlogan@gmccharlotte.org
END:VEVENT
END:VCALENDAR