BEGIN:VCALENDAR
VERSION:2.0
PRODID:-//CLTSings - ECPv6.15.20//NONSGML v1.0//EN
CALSCALE:GREGORIAN
METHOD:PUBLISH
X-ORIGINAL-URL:https://cltsings.org
X-WR-CALDESC:Events for CLTSings
REFRESH-INTERVAL;VALUE=DURATION:PT1H
X-Robots-Tag:noindex
X-PUBLISHED-TTL:PT1H
BEGIN:VTIMEZONE
TZID:America/New_York
BEGIN:DAYLIGHT
TZOFFSETFROM:-0500
TZOFFSETTO:-0400
TZNAME:EDT
DTSTART:20230312T070000
END:DAYLIGHT
BEGIN:STANDARD
TZOFFSETFROM:-0400
TZOFFSETTO:-0500
TZNAME:EST
DTSTART:20231105T060000
END:STANDARD
BEGIN:DAYLIGHT
TZOFFSETFROM:-0500
TZOFFSETTO:-0400
TZNAME:EDT
DTSTART:20240310T070000
END:DAYLIGHT
BEGIN:STANDARD
TZOFFSETFROM:-0400
TZOFFSETTO:-0500
TZNAME:EST
DTSTART:20241103T060000
END:STANDARD
BEGIN:DAYLIGHT
TZOFFSETFROM:-0500
TZOFFSETTO:-0400
TZNAME:EDT
DTSTART:20250309T070000
END:DAYLIGHT
BEGIN:STANDARD
TZOFFSETFROM:-0400
TZOFFSETTO:-0500
TZNAME:EST
DTSTART:20251102T060000
END:STANDARD
END:VTIMEZONE
BEGIN:VEVENT
DTSTART;TZID=America/New_York:20241026T190000
DTEND;TZID=America/New_York:20241026T203000
DTSTAMP:20260424T041650
CREATED:20241004T175227Z
LAST-MODIFIED:20241004T175823Z
UID:10000034-1729969200-1729974600@cltsings.org
SUMMARY:Haunted Halloween Harmonies
DESCRIPTION:The Charlotte Chorale Inc.\, under the direction of Andrew Struhar\, will present “Haunted Halloween Harmonies”. \nImagine a “Little Shop of Horrors” where\, on All Hallow’s Eve\, the record shop springs to life. The spirits of singers from the records awaken to perform\, causing more than just “Double Trouble” as “Things Go Bump In The Night.” But fear not\, for “The Ghostbusters” are on the scene. It’s not all “Grim Grinning Ghosts” though; the shop gets rockin’ with the frenzy of “Transylvania Mania.” \nAfter a brief intermission\, where guests can rest their weary bones\, the monsters return to party with the “Monster Mash.” Even though the witches have been banished\, they still manage to “Put A Spell On You.” This is Halloween\, and it promises to be a “Thriller” of a night. \nDoors open at 6:30 PM and seating is General Admission. Tickets can be purchased at www.eventbrite.com. \nJoin us for a thrilling night when ghosts come out to vocalize.
URL:https://cltsings.org/performance/haunted-halloween-harmonies/
LOCATION:Hope Hall – Caldwell Presbyterian Church\, 1609 E. 5th Street\, Charlotte\, 28204
ATTACH;FMTTYPE=image/png:https://cltsings.org/wp-content/uploads/2024/10/CC_Halloween2024_AllSizes-copy_SOCIAL-POST-3.png
ORGANIZER;CN="Charlotte Chorale":MAILTO:charlottechorale@hotmail.com
END:VEVENT
END:VCALENDAR