BEGIN:VCALENDAR
VERSION:2.0
PRODID:-//CLTSings - ECPv6.15.20//NONSGML v1.0//EN
CALSCALE:GREGORIAN
METHOD:PUBLISH
X-WR-CALNAME:CLTSings
X-ORIGINAL-URL:https://cltsings.org
X-WR-CALDESC:Events for CLTSings
REFRESH-INTERVAL;VALUE=DURATION:PT1H
X-Robots-Tag:noindex
X-PUBLISHED-TTL:PT1H
BEGIN:VTIMEZONE
TZID:America/New_York
BEGIN:DAYLIGHT
TZOFFSETFROM:-0500
TZOFFSETTO:-0400
TZNAME:EDT
DTSTART:20240310T070000
END:DAYLIGHT
BEGIN:STANDARD
TZOFFSETFROM:-0400
TZOFFSETTO:-0500
TZNAME:EST
DTSTART:20241103T060000
END:STANDARD
BEGIN:DAYLIGHT
TZOFFSETFROM:-0500
TZOFFSETTO:-0400
TZNAME:EDT
DTSTART:20250309T070000
END:DAYLIGHT
BEGIN:STANDARD
TZOFFSETFROM:-0400
TZOFFSETTO:-0500
TZNAME:EST
DTSTART:20251102T060000
END:STANDARD
BEGIN:DAYLIGHT
TZOFFSETFROM:-0500
TZOFFSETTO:-0400
TZNAME:EDT
DTSTART:20260308T070000
END:DAYLIGHT
BEGIN:STANDARD
TZOFFSETFROM:-0400
TZOFFSETTO:-0500
TZNAME:EST
DTSTART:20261101T060000
END:STANDARD
END:VTIMEZONE
BEGIN:VEVENT
DTSTART;TZID=America/New_York:20251026T180000
DTEND;TZID=America/New_York:20251026T200000
DTSTAMP:20260423T205011
CREATED:20250917T190929Z
LAST-MODIFIED:20250917T190929Z
UID:10000851-1761501600-1761508800@cltsings.org
SUMMARY:Carolina Lady Singers '25 Fall Concert
DESCRIPTION:Join the Carolina Lady Singers for their 2025 Fall Concert at CPCC Parr Center Theater!
URL:https://cltsings.org/performance/carolina-lady-singers-25-fall-concert/
LOCATION:CPCC Parr Center Theater\, 1201 Elizabeth Ave\, Charlotte\, 28204
ATTACH;FMTTYPE=image/png:https://cltsings.org/wp-content/uploads/2025/09/CLS-2025-Fall-Concert.png
ORGANIZER;CN="Carolina Lady Singers":MAILTO:cls@carolinaladysingers.com
END:VEVENT
END:VCALENDAR