BEGIN:VCALENDAR
VERSION:2.0
PRODID:-//CLTSings - ECPv6.15.20//NONSGML v1.0//EN
CALSCALE:GREGORIAN
METHOD:PUBLISH
X-WR-CALNAME:CLTSings
X-ORIGINAL-URL:https://cltsings.org
X-WR-CALDESC:Events for CLTSings
REFRESH-INTERVAL;VALUE=DURATION:PT1H
X-Robots-Tag:noindex
X-PUBLISHED-TTL:PT1H
BEGIN:VTIMEZONE
TZID:America/New_York
BEGIN:DAYLIGHT
TZOFFSETFROM:-0500
TZOFFSETTO:-0400
TZNAME:EDT
DTSTART:20240310T070000
END:DAYLIGHT
BEGIN:STANDARD
TZOFFSETFROM:-0400
TZOFFSETTO:-0500
TZNAME:EST
DTSTART:20241103T060000
END:STANDARD
BEGIN:DAYLIGHT
TZOFFSETFROM:-0500
TZOFFSETTO:-0400
TZNAME:EDT
DTSTART:20250309T070000
END:DAYLIGHT
BEGIN:STANDARD
TZOFFSETFROM:-0400
TZOFFSETTO:-0500
TZNAME:EST
DTSTART:20251102T060000
END:STANDARD
BEGIN:DAYLIGHT
TZOFFSETFROM:-0500
TZOFFSETTO:-0400
TZNAME:EDT
DTSTART:20260308T070000
END:DAYLIGHT
BEGIN:STANDARD
TZOFFSETFROM:-0400
TZOFFSETTO:-0500
TZNAME:EST
DTSTART:20261101T060000
END:STANDARD
END:VTIMEZONE
BEGIN:VEVENT
DTSTART;TZID=America/New_York:20251207T160000
DTEND;TZID=America/New_York:20251207T170000
DTSTAMP:20260423T174557
CREATED:20250917T120938Z
LAST-MODIFIED:20250917T120938Z
UID:10000841-1765123200-1765126800@cltsings.org
SUMMARY:Christmas with Caritas
DESCRIPTION:Celebrate the season with Caritas A Cappella Ensemble as they present an afternoon of exquisite choral music that captures the beauty and wonder of Christmas. Experience unique arrangements of cherished hymns\, enriched with intricate harmonies and soaring melodies that will uplift the spirit and stir the soul. This inspiring performance offers a moment of reflection and joy amid the holiday bustle—a perfect way to embrace the magic of December.
URL:https://cltsings.org/performance/christmas-with-caritas/
LOCATION:Myers Park Baptist Church\, 1900 Queens Rd W\, Charlotte\, 28207
CATEGORIES:Choral
ATTACH;FMTTYPE=image/jpeg:https://cltsings.org/wp-content/uploads/2025/09/Caritas-Photo-3.jpg
ORGANIZER;CN="Caritas A Cappella Ensemble":MAILTO:info@caritasacappella.org
END:VEVENT
END:VCALENDAR